BEGIN:VCALENDAR
VERSION:2.0
PRODID:-//Helsingin Lumilautailijat RY - ECPv6.15.18//NONSGML v1.0//EN
CALSCALE:GREGORIAN
METHOD:PUBLISH
X-WR-CALNAME:Helsingin Lumilautailijat RY
X-ORIGINAL-URL:https://helsinginlumilautailijat.fi
X-WR-CALDESC:Tapahtumat Helsingin Lumilautailijat RY
REFRESH-INTERVAL;VALUE=DURATION:PT1H
X-Robots-Tag:noindex
X-PUBLISHED-TTL:PT1H
BEGIN:VTIMEZONE
TZID:Europe/Helsinki
BEGIN:DAYLIGHT
TZOFFSETFROM:+0200
TZOFFSETTO:+0300
TZNAME:EEST
DTSTART:20190331T010000
END:DAYLIGHT
BEGIN:STANDARD
TZOFFSETFROM:+0300
TZOFFSETTO:+0200
TZNAME:EET
DTSTART:20191027T010000
END:STANDARD
BEGIN:DAYLIGHT
TZOFFSETFROM:+0200
TZOFFSETTO:+0300
TZNAME:EEST
DTSTART:20200329T010000
END:DAYLIGHT
BEGIN:STANDARD
TZOFFSETFROM:+0300
TZOFFSETTO:+0200
TZNAME:EET
DTSTART:20201025T010000
END:STANDARD
BEGIN:DAYLIGHT
TZOFFSETFROM:+0200
TZOFFSETTO:+0300
TZNAME:EEST
DTSTART:20210328T010000
END:DAYLIGHT
BEGIN:STANDARD
TZOFFSETFROM:+0300
TZOFFSETTO:+0200
TZNAME:EET
DTSTART:20211031T010000
END:STANDARD
END:VTIMEZONE
BEGIN:VEVENT
DTSTART;TZID=Europe/Helsinki:20200607T180000
DTEND;TZID=Europe/Helsinki:20200607T190000
DTSTAMP:20260422T065946
CREATED:20200513T161359Z
LAST-MODIFIED:20200604T110425Z
UID:1057-1591552800-1591556400@helsinginlumilautailijat.fi
SUMMARY:WEBINAARI PIIROINEN & HÄKKINEN
DESCRIPTION:Webinaari – Lumilautailun fysiikkaharjoittelu\, kehonhuolto ja palautuminen. \nSu 7.6. 18:00 @HELTV \n• Kaikille lumilautailusta sekä itsensä kehittämisestä kiinnostuneille\n• Sisältää 1h webinaarin \n\n\nPeetu Piiroinen ammattilumilautailija ja Helsingin lumilautailijoiden valmentaja \nTuukka Häkkinen on yksi Huh-Helsingin (Helsingin urheiluhieronta) perustaja jäsenistä ja toimii tällä hetkellä Suomen lumilautamaajoukkueen ihmishuoltaja. \nPaneudutaan lumilautailun fysiikkaharjoitteluun\, kehonhuoltoon sekä hieman palautumisen kannalta tärkeisiin asioihin\, kuten uneen ja ravintoon. Keskustellaan Suomen maajoukkueen ihmishuoltajan Tuukka Häkkisen kanssa lumilautailun fysiikkaharjoittelusta ja kehonhuollosta. Mukana keskustelussa Ammattilumilautailija Peetu Piiroinen joka jakaa omakohtaisia kokemuksia treenaamisesta ja muista aiheeseen liittyvistä asioista. \nHELTV livelähetys\, arvioitu kesto noin 60min
URL:https://helsinginlumilautailijat.fi/tapahtuma/webinaari-piiroinen-hakkinen/
LOCATION:HELTV
ATTACH;FMTTYPE=image/png:https://helsinginlumilautailijat.fi/wp-content/uploads/HELL_myflow_vaaka_hp2.png
END:VEVENT
END:VCALENDAR