BEGIN:VCALENDAR
VERSION:2.0
PRODID:-//Helsingin Lumilautailijat RY - ECPv6.15.18//NONSGML v1.0//EN
CALSCALE:GREGORIAN
METHOD:PUBLISH
X-ORIGINAL-URL:https://helsinginlumilautailijat.fi
X-WR-CALDESC:Tapahtumat Helsingin Lumilautailijat RY
REFRESH-INTERVAL;VALUE=DURATION:PT1H
X-Robots-Tag:noindex
X-PUBLISHED-TTL:PT1H
BEGIN:VTIMEZONE
TZID:Europe/Helsinki
BEGIN:DAYLIGHT
TZOFFSETFROM:+0200
TZOFFSETTO:+0300
TZNAME:EEST
DTSTART:20200329T010000
END:DAYLIGHT
BEGIN:STANDARD
TZOFFSETFROM:+0300
TZOFFSETTO:+0200
TZNAME:EET
DTSTART:20201025T010000
END:STANDARD
BEGIN:DAYLIGHT
TZOFFSETFROM:+0200
TZOFFSETTO:+0300
TZNAME:EEST
DTSTART:20210328T010000
END:DAYLIGHT
BEGIN:STANDARD
TZOFFSETFROM:+0300
TZOFFSETTO:+0200
TZNAME:EET
DTSTART:20211031T010000
END:STANDARD
BEGIN:DAYLIGHT
TZOFFSETFROM:+0200
TZOFFSETTO:+0300
TZNAME:EEST
DTSTART:20220327T010000
END:DAYLIGHT
BEGIN:STANDARD
TZOFFSETFROM:+0300
TZOFFSETTO:+0200
TZNAME:EET
DTSTART:20221030T010000
END:STANDARD
END:VTIMEZONE
BEGIN:VEVENT
DTSTART;TZID=Europe/Helsinki:20210112T183000
DTEND;TZID=Europe/Helsinki:20210112T200000
DTSTAMP:20260423T050914
CREATED:20201110T094028Z
LAST-MODIFIED:20210115T082130Z
UID:1743-1610476200-1610481600@helsinginlumilautailijat.fi
SUMMARY:TEAM / SENIORS @ TALMA
DESCRIPTION:Harjoitukset
URL:https://helsinginlumilautailijat.fi/tapahtuma/team-warriors-seniors-talma-2/
LOCATION:Talma Ski\, Talmantie 341\, Sipoo\, 04240\, Suomi
END:VEVENT
END:VCALENDAR