BEGIN:VCALENDAR
VERSION:2.0
PRODID:-//Helsingin Lumilautailijat RY - ECPv6.15.18//NONSGML v1.0//EN
CALSCALE:GREGORIAN
METHOD:PUBLISH
X-ORIGINAL-URL:https://helsinginlumilautailijat.fi
X-WR-CALDESC:Tapahtumat Helsingin Lumilautailijat RY
REFRESH-INTERVAL;VALUE=DURATION:PT1H
X-Robots-Tag:noindex
X-PUBLISHED-TTL:PT1H
BEGIN:VTIMEZONE
TZID:Europe/Helsinki
BEGIN:DAYLIGHT
TZOFFSETFROM:+0200
TZOFFSETTO:+0300
TZNAME:EEST
DTSTART:20230326T010000
END:DAYLIGHT
BEGIN:STANDARD
TZOFFSETFROM:+0300
TZOFFSETTO:+0200
TZNAME:EET
DTSTART:20231029T010000
END:STANDARD
BEGIN:DAYLIGHT
TZOFFSETFROM:+0200
TZOFFSETTO:+0300
TZNAME:EEST
DTSTART:20240331T010000
END:DAYLIGHT
BEGIN:STANDARD
TZOFFSETFROM:+0300
TZOFFSETTO:+0200
TZNAME:EET
DTSTART:20241027T010000
END:STANDARD
BEGIN:DAYLIGHT
TZOFFSETFROM:+0200
TZOFFSETTO:+0300
TZNAME:EEST
DTSTART:20250330T010000
END:DAYLIGHT
BEGIN:STANDARD
TZOFFSETFROM:+0300
TZOFFSETTO:+0200
TZNAME:EET
DTSTART:20251026T010000
END:STANDARD
END:VTIMEZONE
BEGIN:VEVENT
DTSTART;TZID=Europe/Helsinki:20241008T173000
DTEND;TZID=Europe/Helsinki:20241008T183000
DTSTAMP:20260419T173322
CREATED:20240418T053410Z
LAST-MODIFIED:20240418T053410Z
UID:6098-1728408600-1728412200@helsinginlumilautailijat.fi
SUMMARY:Kesätreenit @Myllypuron Kuntoportaat
DESCRIPTION:Myllypuron porrastreenit klo 17.30-18.30. Sään mukainen urheiluvarustus ja juomapullo mukaan. Tapaaminen portaiden alapäässä.
URL:https://helsinginlumilautailijat.fi/tapahtuma/kesatreenit-myllypuron-kuntoportaat-3/
LOCATION:Myllypuron Kuntoportaat\, Alakiventie 10\, Helsinki
END:VEVENT
BEGIN:VEVENT
DTSTART;TZID=Europe/Helsinki:20241008T193000
DTEND;TZID=Europe/Helsinki:20241008T203000
DTSTAMP:20260419T173322
CREATED:20241007T112602Z
LAST-MODIFIED:20241007T112602Z
UID:6780-1728415800-1728419400@helsinginlumilautailijat.fi
SUMMARY:"MILESTONE" elokuvan ensi-ilta
DESCRIPTION:Eero Ettalan uuden ”MILESTONE” elokuvan ensimmäinen näytös suomessa ainoastaan helsingin lumilautailijoiden jäsenille.
URL:https://helsinginlumilautailijat.fi/tapahtuma/milestone-elokuvan-ensi-ilta/
LOCATION:Smartly Event Space\, Postikuja 1\, Helsinki\, 00100
END:VEVENT
END:VCALENDAR