BEGIN:VCALENDAR
VERSION:2.0
PRODID:-//Helsingin Lumilautailijat RY - ECPv6.15.18//NONSGML v1.0//EN
CALSCALE:GREGORIAN
METHOD:PUBLISH
X-ORIGINAL-URL:https://helsinginlumilautailijat.fi
X-WR-CALDESC:Tapahtumat Helsingin Lumilautailijat RY
REFRESH-INTERVAL;VALUE=DURATION:PT1H
X-Robots-Tag:noindex
X-PUBLISHED-TTL:PT1H
BEGIN:VTIMEZONE
TZID:Europe/Helsinki
BEGIN:DAYLIGHT
TZOFFSETFROM:+0200
TZOFFSETTO:+0300
TZNAME:EEST
DTSTART:20230326T010000
END:DAYLIGHT
BEGIN:STANDARD
TZOFFSETFROM:+0300
TZOFFSETTO:+0200
TZNAME:EET
DTSTART:20231029T010000
END:STANDARD
BEGIN:DAYLIGHT
TZOFFSETFROM:+0200
TZOFFSETTO:+0300
TZNAME:EEST
DTSTART:20240331T010000
END:DAYLIGHT
BEGIN:STANDARD
TZOFFSETFROM:+0300
TZOFFSETTO:+0200
TZNAME:EET
DTSTART:20241027T010000
END:STANDARD
BEGIN:DAYLIGHT
TZOFFSETFROM:+0200
TZOFFSETTO:+0300
TZNAME:EEST
DTSTART:20250330T010000
END:DAYLIGHT
BEGIN:STANDARD
TZOFFSETFROM:+0300
TZOFFSETTO:+0200
TZNAME:EET
DTSTART:20251026T010000
END:STANDARD
END:VTIMEZONE
BEGIN:VEVENT
DTSTART;TZID=Europe/Helsinki:20241124T183000
DTEND;TZID=Europe/Helsinki:20241124T200000
DTSTAMP:20260419T191349
CREATED:20241003T065817Z
LAST-MODIFIED:20241003T065817Z
UID:6606-1732473000-1732478400@helsinginlumilautailijat.fi
SUMMARY:Superpark Vantaa Harjoitukset
DESCRIPTION:Superpark Vantaa harjoitukset klo 18.30-20.00 \n\n\nSuperpark on sisäaktiviteettipuisto\, josta löytyy laaja valikoima erilaisia aktiviteetteja. Seuran oheisharjoittelussa käytämme enimmäkseen ”Freestyle hallin” aktiviteetteja\, kuten trampoliineja\, air trackia\, big air -hyppyriä ja skeittipuistoa. Harjoittelu Superparkissa on osittain ohjattua\, mutta suurimmaksi osaksi omatoimista. Oheisharjoittelu varustuksessa olisi hyvä huomioida asianmukainen treenivaatetus\, juomapullo & skeittilauta/skuutti\, jos löytyy (Superparkissa on muutamia laina skeittejä ja skuutteja). \nPaikalle on hyvä saapua ajoissa\, sillä ovet menevät lukkoon harjoitusten alkaessa. Suuresta jäsenmäärästä johtuen sisaruksilla eikä vanhemmilla ole mahdollista käyttää Superparkin aktiviteetteja. Vanhemmat voivat kuitenkin odottaa harjoitusten ajan aulakahviossa tai talkootyönä valvoa\, että harjoituksissa käyttäydytään asiallisesti. \n  \nSääntöjä: \n\nKuunnellaan valmentajien tai muun henkilökunnan ohjeita.\n\n\nEi skeittausta aulassa\, skeitataan ainoastaan sille tarkoitetussa paikassa.\n\n\nSkeitti- ja scoottiparkissa käytetään aina kypärää (alaikäset).\n\n\nYksi kerrallaan trampoliineilla!\n\n\nPuistossa liikutaan sukilla tai sisäkengillä.\n\n\nFoam-altaassa ei tule oleskella\, vaan sieltä noustaan hypyn jälkeen ripeästi pois\n\n\nJonotathan aina omaa vuoroa ja annat rauhan muille liikkujille suorituksen aikana.\n\n\nKaikki osallistuu ohjattuun toimintaan.\n\n\nKorjataan välineet oikeille paikoille harjoituksen jälkeen.\n\n\nOtetaan nuorimmat harrastajat huomioon.\n\n\nKäyttäydytään asiallisesti ja kunnioitetaan muita harrastajia.\n\nToistuvasta sääntöjen rikkomisesta seuraa kielto osallistua määräajaksi Superpark -harjoituksiin. \nhttps://superpark.fi/park/vantaa/
URL:https://helsinginlumilautailijat.fi/tapahtuma/superpark-vantaa-harjoitukset-13/
LOCATION:Superpark Vantaa\, Tammiston kauppatie 13\, Vantaa\, 01510
ATTACH;FMTTYPE=image/jpeg:https://helsinginlumilautailijat.fi/wp-content/uploads/PII0787-1.jpg
END:VEVENT
END:VCALENDAR