BEGIN:VCALENDAR
VERSION:2.0
PRODID:-//Helsingin Lumilautailijat RY - ECPv6.15.18//NONSGML v1.0//EN
CALSCALE:GREGORIAN
METHOD:PUBLISH
X-WR-CALNAME:Helsingin Lumilautailijat RY
X-ORIGINAL-URL:https://helsinginlumilautailijat.fi
X-WR-CALDESC:Tapahtumat Helsingin Lumilautailijat RY
REFRESH-INTERVAL;VALUE=DURATION:PT1H
X-Robots-Tag:noindex
X-PUBLISHED-TTL:PT1H
BEGIN:VTIMEZONE
TZID:Europe/Helsinki
BEGIN:DAYLIGHT
TZOFFSETFROM:+0200
TZOFFSETTO:+0300
TZNAME:EEST
DTSTART:20240331T010000
END:DAYLIGHT
BEGIN:STANDARD
TZOFFSETFROM:+0300
TZOFFSETTO:+0200
TZNAME:EET
DTSTART:20241027T010000
END:STANDARD
BEGIN:DAYLIGHT
TZOFFSETFROM:+0200
TZOFFSETTO:+0300
TZNAME:EEST
DTSTART:20250330T010000
END:DAYLIGHT
BEGIN:STANDARD
TZOFFSETFROM:+0300
TZOFFSETTO:+0200
TZNAME:EET
DTSTART:20251026T010000
END:STANDARD
BEGIN:DAYLIGHT
TZOFFSETFROM:+0200
TZOFFSETTO:+0300
TZNAME:EEST
DTSTART:20260329T010000
END:DAYLIGHT
BEGIN:STANDARD
TZOFFSETFROM:+0300
TZOFFSETTO:+0200
TZNAME:EET
DTSTART:20261025T010000
END:STANDARD
END:VTIMEZONE
BEGIN:VEVENT
DTSTART;TZID=Europe/Helsinki:20250113T180000
DTEND;TZID=Europe/Helsinki:20250113T193000
DTSTAMP:20260419T220831
CREATED:20241003T072948Z
LAST-MODIFIED:20241003T072948Z
UID:6655-1736791200-1736796600@helsinginlumilautailijat.fi
SUMMARY:Seniors -ryhmät Sveitsi
DESCRIPTION:Sveitsin harjoitukset Seniors -ryhmille klo 18.00-19.30. Suositellaan kypärän käyttöä ja muita mahdollisia suojia. Kokoontuminen rinnekahvilan edessä.
URL:https://helsinginlumilautailijat.fi/tapahtuma/seniors-ryhmat-sveitsi-18/
LOCATION:Sveitsi\, Pujottelutie 1\, Hyvinkää\, 05880\, Suomi
END:VEVENT
END:VCALENDAR