BEGIN:VCALENDAR
VERSION:2.0
PRODID:-//Helsingin Lumilautailijat RY - ECPv6.15.18//NONSGML v1.0//EN
CALSCALE:GREGORIAN
METHOD:PUBLISH
X-WR-CALNAME:Helsingin Lumilautailijat RY
X-ORIGINAL-URL:https://helsinginlumilautailijat.fi
X-WR-CALDESC:Tapahtumat Helsingin Lumilautailijat RY
REFRESH-INTERVAL;VALUE=DURATION:PT1H
X-Robots-Tag:noindex
X-PUBLISHED-TTL:PT1H
BEGIN:VTIMEZONE
TZID:Europe/Helsinki
BEGIN:DAYLIGHT
TZOFFSETFROM:+0200
TZOFFSETTO:+0300
TZNAME:EEST
DTSTART:20240331T010000
END:DAYLIGHT
BEGIN:STANDARD
TZOFFSETFROM:+0300
TZOFFSETTO:+0200
TZNAME:EET
DTSTART:20241027T010000
END:STANDARD
BEGIN:DAYLIGHT
TZOFFSETFROM:+0200
TZOFFSETTO:+0300
TZNAME:EEST
DTSTART:20250330T010000
END:DAYLIGHT
BEGIN:STANDARD
TZOFFSETFROM:+0300
TZOFFSETTO:+0200
TZNAME:EET
DTSTART:20251026T010000
END:STANDARD
BEGIN:DAYLIGHT
TZOFFSETFROM:+0200
TZOFFSETTO:+0300
TZNAME:EEST
DTSTART:20260329T010000
END:DAYLIGHT
BEGIN:STANDARD
TZOFFSETFROM:+0300
TZOFFSETTO:+0200
TZNAME:EET
DTSTART:20261025T010000
END:STANDARD
END:VTIMEZONE
BEGIN:VEVENT
DTSTART;TZID=Europe/Helsinki:20250209T100000
DTEND;TZID=Europe/Helsinki:20250209T113000
DTSTAMP:20260419T234630
CREATED:20241003T083955Z
LAST-MODIFIED:20241003T083955Z
UID:6767-1739095200-1739100600@helsinginlumilautailijat.fi
SUMMARY:Sunnuntai Sessarit Sveitsi
DESCRIPTION:Yhteiset sunnuntai sessarit Sveitsissä klo 10.00-11.30 Crew 1 ja Warriors -ryhmille. Muistakaa kypärä ja juomapullo!
URL:https://helsinginlumilautailijat.fi/tapahtuma/sunnuntai-sessarit-sveitsi-15/
LOCATION:Sveitsi\, Pujottelutie 1\, Hyvinkää\, 05880\, Suomi
END:VEVENT
BEGIN:VEVENT
DTSTART;TZID=Europe/Helsinki:20250209T181500
DTEND;TZID=Europe/Helsinki:20250209T194500
DTSTAMP:20260419T234630
CREATED:20241003T070700Z
LAST-MODIFIED:20241010T105817Z
UID:6615-1739124900-1739130300@helsinginlumilautailijat.fi
SUMMARY:Superpark Vantaa Harjoitukset
DESCRIPTION:Superpark Vantaa harjoitukset klo 18.15-19.45 \n\n\nSuperpark on sisäaktiviteettipuisto\, josta löytyy laaja valikoima erilaisia aktiviteetteja. Seuran oheisharjoittelussa käytämme enimmäkseen ”Freestyle hallin” aktiviteetteja\, kuten trampoliineja\, air trackia\, big air -hyppyriä ja skeittipuistoa. Harjoittelu Superparkissa on osittain ohjattua\, mutta suurimmaksi osaksi omatoimista. Oheisharjoittelu varustuksessa olisi hyvä huomioida asianmukainen treenivaatetus\, juomapullo & skeittilauta/skuutti\, jos löytyy (Superparkissa on muutamia laina skeittejä ja skuutteja). \nPaikalle on hyvä saapua ajoissa\, sillä ovet menevät lukkoon harjoitusten alkaessa. Suuresta jäsenmäärästä johtuen sisaruksilla eikä vanhemmilla ole mahdollista käyttää Superparkin aktiviteetteja. Vanhemmat voivat kuitenkin odottaa harjoitusten ajan aulakahviossa tai talkootyönä valvoa\, että harjoituksissa käyttäydytään asiallisesti. \n  \nSääntöjä: \n\nKuunnellaan valmentajien tai muun henkilökunnan ohjeita.\n\n\nEi skeittausta aulassa\, skeitataan ainoastaan sille tarkoitetussa paikassa.\n\n\nSkeitti- ja scoottiparkissa käytetään aina kypärää (alaikäset).\n\n\nYksi kerrallaan trampoliineilla!\n\n\nPuistossa liikutaan sukilla tai sisäkengillä.\n\n\nFoam-altaassa ei tule oleskella\, vaan sieltä noustaan hypyn jälkeen ripeästi pois\n\n\nJonotathan aina omaa vuoroa ja annat rauhan muille liikkujille suorituksen aikana.\n\n\nKaikki osallistuu ohjattuun toimintaan.\n\n\nKorjataan välineet oikeille paikoille harjoituksen jälkeen.\n\n\nOtetaan nuorimmat harrastajat huomioon.\n\n\nKäyttäydytään asiallisesti ja kunnioitetaan muita harrastajia.\n\nToistuvasta sääntöjen rikkomisesta seuraa kielto osallistua määräajaksi Superpark -harjoituksiin. \nhttps://superpark.fi/park/vantaa/
URL:https://helsinginlumilautailijat.fi/tapahtuma/superpark-vantaa-harjoitukset-17/
LOCATION:Superpark Vantaa\, Tammiston kauppatie 13\, Vantaa\, 01510
ATTACH;FMTTYPE=image/jpeg:https://helsinginlumilautailijat.fi/wp-content/uploads/PII0787-1.jpg
END:VEVENT
BEGIN:VEVENT
DTSTART;TZID=Europe/Helsinki:20250209T200000
DTEND;TZID=Europe/Helsinki:20250209T213000
DTSTAMP:20260419T234630
CREATED:20241010T105535Z
LAST-MODIFIED:20241010T105535Z
UID:6812-1739131200-1739136600@helsinginlumilautailijat.fi
SUMMARY:Superpark Vantaa harjoitukset Seniors
DESCRIPTION:Superpark Vantaa harjoitukset Seniors-ryhmille klo 20.00-21.30 \nSuperpark on sisäaktiviteettipuisto\, josta löytyy laaja valikoima erilaisia aktiviteetteja. Seuran oheisharjoittelussa käytämme enimmäkseen ”Freestyle hallin” aktiviteetteja\, kuten trampoliineja\, air trackia\, big air -hyppyriä ja skeittipuistoa. Harjoittelu Superparkissa on osittain ohjattua\, mutta suurimmaksi osaksi omatoimista. Oheisharjoittelu varustuksessa olisi hyvä huomioida asianmukainen treenivaatetus\, juomapullo & skeittilauta/skuutti\, jos löytyy (Superparkissa on muutamia laina skeittejä ja skuutteja). \nSääntöjä: \n-Kuunnellaan valmentajien tai muun henkilökunnan ohjeita. \n-Ei skeittausta aulassa\, skeitataan ainoastaan sille tarkoitetussa paikassa. \n-Skeitti- ja scoottiparkissa käytetään aina kypärää (alaikäset). \n-Yksi kerrallaan trampoliineilla! \n-Puistossa liikutaan sukilla tai sisäkengillä. \n-Foam-altaassa ei tule oleskella\, vaan sieltä noustaan hypyn jälkeen ripeästi pois \n-Jonotathan aina omaa vuoroa ja annat rauhan muille liikkujille suorituksen aikana. \n-Kaikki osallistuu ohjattuun toimintaan. \n-Korjataan välineet oikeille paikoille harjoituksen jälkeen. \n-Otetaan nuorimmat harrastajat huomioon. \n-Käyttäydytään asiallisesti ja kunnioitetaan muita harrastajia. \nhttps://superpark.fi/park/vantaa/
URL:https://helsinginlumilautailijat.fi/tapahtuma/superpark-vantaa-harjoitukset-seniors/
LOCATION:Superpark Vantaa\, Tammiston kauppatie 13\, Vantaa\, 01510
END:VEVENT
END:VCALENDAR