BEGIN:VCALENDAR
VERSION:2.0
PRODID:-//Helsingin Lumilautailijat RY - ECPv6.15.18//NONSGML v1.0//EN
CALSCALE:GREGORIAN
METHOD:PUBLISH
X-WR-CALNAME:Helsingin Lumilautailijat RY
X-ORIGINAL-URL:https://helsinginlumilautailijat.fi
X-WR-CALDESC:Tapahtumat Helsingin Lumilautailijat RY
REFRESH-INTERVAL;VALUE=DURATION:PT1H
X-Robots-Tag:noindex
X-PUBLISHED-TTL:PT1H
BEGIN:VTIMEZONE
TZID:Europe/Helsinki
BEGIN:DAYLIGHT
TZOFFSETFROM:+0200
TZOFFSETTO:+0300
TZNAME:EEST
DTSTART:20230326T010000
END:DAYLIGHT
BEGIN:STANDARD
TZOFFSETFROM:+0300
TZOFFSETTO:+0200
TZNAME:EET
DTSTART:20231029T010000
END:STANDARD
BEGIN:DAYLIGHT
TZOFFSETFROM:+0200
TZOFFSETTO:+0300
TZNAME:EEST
DTSTART:20240331T010000
END:DAYLIGHT
BEGIN:STANDARD
TZOFFSETFROM:+0300
TZOFFSETTO:+0200
TZNAME:EET
DTSTART:20241027T010000
END:STANDARD
BEGIN:DAYLIGHT
TZOFFSETFROM:+0200
TZOFFSETTO:+0300
TZNAME:EEST
DTSTART:20250330T010000
END:DAYLIGHT
BEGIN:STANDARD
TZOFFSETFROM:+0300
TZOFFSETTO:+0200
TZNAME:EET
DTSTART:20251026T010000
END:STANDARD
END:VTIMEZONE
BEGIN:VEVENT
DTSTART;TZID=Europe/Helsinki:20241103T183000
DTEND;TZID=Europe/Helsinki:20241103T200000
DTSTAMP:20260419T173445
CREATED:20241003T064841Z
LAST-MODIFIED:20241003T065337Z
UID:6596-1730658600-1730664000@helsinginlumilautailijat.fi
SUMMARY:Superpark Vantaa Harjoitukset
DESCRIPTION:Superpark Vantaa harjoitukset klo 18.30-20.00 \n\n\nSuperpark on sisäaktiviteettipuisto\, josta löytyy laaja valikoima erilaisia aktiviteetteja. Seuran oheisharjoittelussa käytämme enimmäkseen ”Freestyle hallin” aktiviteetteja\, kuten trampoliineja\, air trackia\, big air -hyppyriä ja skeittipuistoa. Harjoittelu Superparkissa on osittain ohjattua\, mutta suurimmaksi osaksi omatoimista. Oheisharjoittelu varustuksessa olisi hyvä huomioida asianmukainen treenivaatetus\, juomapullo & skeittilauta/skuutti\, jos löytyy (Superparkissa on muutamia laina skeittejä ja skuutteja). \nPaikalle on hyvä saapua ajoissa\, sillä ovet menevät lukkoon harjoitusten alkaessa. Suuresta jäsenmäärästä johtuen sisaruksilla eikä vanhemmilla ole mahdollista käyttää Superparkin aktiviteetteja. Vanhemmat voivat kuitenkin odottaa harjoitusten ajan aulakahviossa tai talkootyönä valvoa\, että harjoituksissa käyttäydytään asiallisesti. \n  \nSääntöjä: \n\nKuunnellaan valmentajien tai muun henkilökunnan ohjeita.\n\n\nEi skeittausta aulassa\, skeitataan ainoastaan sille tarkoitetussa paikassa.\n\n\nSkeitti- ja scoottiparkissa käytetään aina kypärää (alaikäset).\n\n\nYksi kerrallaan trampoliineilla!\n\n\nPuistossa liikutaan sukilla tai sisäkengillä.\n\n\nFoam-altaassa ei tule oleskella\, vaan sieltä noustaan hypyn jälkeen ripeästi pois\n\n\nJonotathan aina omaa vuoroa ja annat rauhan muille liikkujille suorituksen aikana.\n\n\nKaikki osallistuu ohjattuun toimintaan.\n\n\nKorjataan välineet oikeille paikoille harjoituksen jälkeen.\n\n\nOtetaan nuorimmat harrastajat huomioon.\n\n\nKäyttäydytään asiallisesti ja kunnioitetaan muita harrastajia.\n\nToistuvasta sääntöjen rikkomisesta seuraa kielto osallistua määräajaksi Superpark -harjoituksiin. \nhttps://superpark.fi/park/vantaa/
URL:https://helsinginlumilautailijat.fi/tapahtuma/superpark-vantaa-harjoitukset-10/
LOCATION:Superpark Vantaa\, Tammiston kauppatie 13\, Vantaa\, 01510
ATTACH;FMTTYPE=image/jpeg:https://helsinginlumilautailijat.fi/wp-content/uploads/PII0787.jpg
END:VEVENT
BEGIN:VEVENT
DTSTART;TZID=Europe/Helsinki:20241109T170000
DTEND;TZID=Europe/Helsinki:20241109T200000
DTSTAMP:20260419T173445
CREATED:20241028T140200Z
LAST-MODIFIED:20241028T140634Z
UID:6874-1731171600-1731182400@helsinginlumilautailijat.fi
SUMMARY:Blue-Tomato Shop Helsinki Tuomariluento ja Talvikauden avaus
DESCRIPTION:Blue-Tomato Shop Helsingissä vietetään talvikauden avausta ja samalla kaupan 5-vuotissynttäreitä. Lisäksi kaupalla järjestetään Lauri Valosen pitämä Tuomariluento\, jossa avataan lumilautailukilpailuiden tuomarointia siitä kiinnostuneille. Tuomariluento pidetään kaupan sulkemisajan ajan jälkeen. \nTalvikauden avajaisissa Helsingin Lumilautailijoiden jäsenenä saat kaikista tuotteissa -20% alennuksen (ei koske surffilautoja tai verkkokauppaa). Lisäksi kaupalla onnenpyörää ja HL:n henkilöstöä opastamassa eri lumilautavälineiden kanssa. \nAikataulu \nTalvikauden Avaus ja 5-vuotissynttärit \nKlo 17-19 \nLauri Valosen Tuomarointi Luento \nKlo 19-20
URL:https://helsinginlumilautailijat.fi/tapahtuma/blue-tomato-shop-helsinki-tuomariluento-ja-talvikauden-avaus/
LOCATION:Bluetomato Shop Helsinki\, Mannerheimintie 14-20 Forum\, Helsinki\, 00100\, Suomi
ATTACH;FMTTYPE=image/png:https://helsinginlumilautailijat.fi/wp-content/uploads/bt_launch.png
END:VEVENT
BEGIN:VEVENT
DTSTART;TZID=Europe/Helsinki:20241110T183000
DTEND;TZID=Europe/Helsinki:20241110T200000
DTSTAMP:20260419T173445
CREATED:20241003T065516Z
LAST-MODIFIED:20241003T065516Z
UID:6602-1731263400-1731268800@helsinginlumilautailijat.fi
SUMMARY:Superpark Vantaa Harjoitukset
DESCRIPTION:Superpark Vantaa harjoitukset klo 18.30-20.00 \n\n\nSuperpark on sisäaktiviteettipuisto\, josta löytyy laaja valikoima erilaisia aktiviteetteja. Seuran oheisharjoittelussa käytämme enimmäkseen ”Freestyle hallin” aktiviteetteja\, kuten trampoliineja\, air trackia\, big air -hyppyriä ja skeittipuistoa. Harjoittelu Superparkissa on osittain ohjattua\, mutta suurimmaksi osaksi omatoimista. Oheisharjoittelu varustuksessa olisi hyvä huomioida asianmukainen treenivaatetus\, juomapullo & skeittilauta/skuutti\, jos löytyy (Superparkissa on muutamia laina skeittejä ja skuutteja). \nPaikalle on hyvä saapua ajoissa\, sillä ovet menevät lukkoon harjoitusten alkaessa. Suuresta jäsenmäärästä johtuen sisaruksilla eikä vanhemmilla ole mahdollista käyttää Superparkin aktiviteetteja. Vanhemmat voivat kuitenkin odottaa harjoitusten ajan aulakahviossa tai talkootyönä valvoa\, että harjoituksissa käyttäydytään asiallisesti. \n  \nSääntöjä: \n\nKuunnellaan valmentajien tai muun henkilökunnan ohjeita.\n\n\nEi skeittausta aulassa\, skeitataan ainoastaan sille tarkoitetussa paikassa.\n\n\nSkeitti- ja scoottiparkissa käytetään aina kypärää (alaikäset).\n\n\nYksi kerrallaan trampoliineilla!\n\n\nPuistossa liikutaan sukilla tai sisäkengillä.\n\n\nFoam-altaassa ei tule oleskella\, vaan sieltä noustaan hypyn jälkeen ripeästi pois\n\n\nJonotathan aina omaa vuoroa ja annat rauhan muille liikkujille suorituksen aikana.\n\n\nKaikki osallistuu ohjattuun toimintaan.\n\n\nKorjataan välineet oikeille paikoille harjoituksen jälkeen.\n\n\nOtetaan nuorimmat harrastajat huomioon.\n\n\nKäyttäydytään asiallisesti ja kunnioitetaan muita harrastajia.\n\nToistuvasta sääntöjen rikkomisesta seuraa kielto osallistua määräajaksi Superpark -harjoituksiin. \nhttps://superpark.fi/park/vantaa/
URL:https://helsinginlumilautailijat.fi/tapahtuma/superpark-vantaa-harjoitukset-11/
LOCATION:Superpark Vantaa\, Tammiston kauppatie 13\, Vantaa\, 01510
ATTACH;FMTTYPE=image/jpeg:https://helsinginlumilautailijat.fi/wp-content/uploads/PII0787.jpg
END:VEVENT
BEGIN:VEVENT
DTSTART;TZID=Europe/Helsinki:20241117T183000
DTEND;TZID=Europe/Helsinki:20241117T200000
DTSTAMP:20260419T173445
CREATED:20241003T065634Z
LAST-MODIFIED:20241003T065634Z
UID:6604-1731868200-1731873600@helsinginlumilautailijat.fi
SUMMARY:Superpark Vantaa Harjoitukset
DESCRIPTION:Superpark Vantaa harjoitukset klo 18.30-20.00 \n\n\nSuperpark on sisäaktiviteettipuisto\, josta löytyy laaja valikoima erilaisia aktiviteetteja. Seuran oheisharjoittelussa käytämme enimmäkseen ”Freestyle hallin” aktiviteetteja\, kuten trampoliineja\, air trackia\, big air -hyppyriä ja skeittipuistoa. Harjoittelu Superparkissa on osittain ohjattua\, mutta suurimmaksi osaksi omatoimista. Oheisharjoittelu varustuksessa olisi hyvä huomioida asianmukainen treenivaatetus\, juomapullo & skeittilauta/skuutti\, jos löytyy (Superparkissa on muutamia laina skeittejä ja skuutteja). \nPaikalle on hyvä saapua ajoissa\, sillä ovet menevät lukkoon harjoitusten alkaessa. Suuresta jäsenmäärästä johtuen sisaruksilla eikä vanhemmilla ole mahdollista käyttää Superparkin aktiviteetteja. Vanhemmat voivat kuitenkin odottaa harjoitusten ajan aulakahviossa tai talkootyönä valvoa\, että harjoituksissa käyttäydytään asiallisesti. \n  \nSääntöjä: \n\nKuunnellaan valmentajien tai muun henkilökunnan ohjeita.\n\n\nEi skeittausta aulassa\, skeitataan ainoastaan sille tarkoitetussa paikassa.\n\n\nSkeitti- ja scoottiparkissa käytetään aina kypärää (alaikäset).\n\n\nYksi kerrallaan trampoliineilla!\n\n\nPuistossa liikutaan sukilla tai sisäkengillä.\n\n\nFoam-altaassa ei tule oleskella\, vaan sieltä noustaan hypyn jälkeen ripeästi pois\n\n\nJonotathan aina omaa vuoroa ja annat rauhan muille liikkujille suorituksen aikana.\n\n\nKaikki osallistuu ohjattuun toimintaan.\n\n\nKorjataan välineet oikeille paikoille harjoituksen jälkeen.\n\n\nOtetaan nuorimmat harrastajat huomioon.\n\n\nKäyttäydytään asiallisesti ja kunnioitetaan muita harrastajia.\n\nToistuvasta sääntöjen rikkomisesta seuraa kielto osallistua määräajaksi Superpark -harjoituksiin. \nhttps://superpark.fi/park/vantaa/
URL:https://helsinginlumilautailijat.fi/tapahtuma/superpark-vantaa-harjoitukset-12/
LOCATION:Superpark Vantaa\, Tammiston kauppatie 13\, Vantaa\, 01510
ATTACH;FMTTYPE=image/jpeg:https://helsinginlumilautailijat.fi/wp-content/uploads/PII0787.jpg
END:VEVENT
BEGIN:VEVENT
DTSTART;TZID=Europe/Helsinki:20241124T183000
DTEND;TZID=Europe/Helsinki:20241124T200000
DTSTAMP:20260419T173445
CREATED:20241003T065817Z
LAST-MODIFIED:20241003T065817Z
UID:6606-1732473000-1732478400@helsinginlumilautailijat.fi
SUMMARY:Superpark Vantaa Harjoitukset
DESCRIPTION:Superpark Vantaa harjoitukset klo 18.30-20.00 \n\n\nSuperpark on sisäaktiviteettipuisto\, josta löytyy laaja valikoima erilaisia aktiviteetteja. Seuran oheisharjoittelussa käytämme enimmäkseen ”Freestyle hallin” aktiviteetteja\, kuten trampoliineja\, air trackia\, big air -hyppyriä ja skeittipuistoa. Harjoittelu Superparkissa on osittain ohjattua\, mutta suurimmaksi osaksi omatoimista. Oheisharjoittelu varustuksessa olisi hyvä huomioida asianmukainen treenivaatetus\, juomapullo & skeittilauta/skuutti\, jos löytyy (Superparkissa on muutamia laina skeittejä ja skuutteja). \nPaikalle on hyvä saapua ajoissa\, sillä ovet menevät lukkoon harjoitusten alkaessa. Suuresta jäsenmäärästä johtuen sisaruksilla eikä vanhemmilla ole mahdollista käyttää Superparkin aktiviteetteja. Vanhemmat voivat kuitenkin odottaa harjoitusten ajan aulakahviossa tai talkootyönä valvoa\, että harjoituksissa käyttäydytään asiallisesti. \n  \nSääntöjä: \n\nKuunnellaan valmentajien tai muun henkilökunnan ohjeita.\n\n\nEi skeittausta aulassa\, skeitataan ainoastaan sille tarkoitetussa paikassa.\n\n\nSkeitti- ja scoottiparkissa käytetään aina kypärää (alaikäset).\n\n\nYksi kerrallaan trampoliineilla!\n\n\nPuistossa liikutaan sukilla tai sisäkengillä.\n\n\nFoam-altaassa ei tule oleskella\, vaan sieltä noustaan hypyn jälkeen ripeästi pois\n\n\nJonotathan aina omaa vuoroa ja annat rauhan muille liikkujille suorituksen aikana.\n\n\nKaikki osallistuu ohjattuun toimintaan.\n\n\nKorjataan välineet oikeille paikoille harjoituksen jälkeen.\n\n\nOtetaan nuorimmat harrastajat huomioon.\n\n\nKäyttäydytään asiallisesti ja kunnioitetaan muita harrastajia.\n\nToistuvasta sääntöjen rikkomisesta seuraa kielto osallistua määräajaksi Superpark -harjoituksiin. \nhttps://superpark.fi/park/vantaa/
URL:https://helsinginlumilautailijat.fi/tapahtuma/superpark-vantaa-harjoitukset-13/
LOCATION:Superpark Vantaa\, Tammiston kauppatie 13\, Vantaa\, 01510
ATTACH;FMTTYPE=image/jpeg:https://helsinginlumilautailijat.fi/wp-content/uploads/PII0787-1.jpg
END:VEVENT
BEGIN:VEVENT
DTSTART;TZID=Europe/Helsinki:20241126T180000
DTEND;TZID=Europe/Helsinki:20241126T193000
DTSTAMP:20260419T173445
CREATED:20241125T101124Z
LAST-MODIFIED:20241125T101124Z
UID:6909-1732644000-1732649400@helsinginlumilautailijat.fi
SUMMARY:Yhteiset Sessarit @Talma @Sveitsi
DESCRIPTION:Talman Sessarit Crew 1 ja Crew 2 -ryhmille klo 18.00-19.30. Kokoontuminen rinteiden alhaalla. Muistakaa kypärä ja juomapullo! \n\nSveitsin Sessarit Warriors ja Crew 1 -ryhmille klo 18.00-19.30. Kokoontuminen rinnekahvilan edessä. Muistakaa kypärä ja juomapullo! \n\nSerenalaiset voivat myös osallistua Talman tai Sveitsin Sessareille.
URL:https://helsinginlumilautailijat.fi/tapahtuma/yhteiset-sessarit-talma-sveitsi/
END:VEVENT
BEGIN:VEVENT
DTSTART;TZID=Europe/Helsinki:20241128T180000
DTEND;TZID=Europe/Helsinki:20241128T193000
DTSTAMP:20260419T173445
CREATED:20241125T101527Z
LAST-MODIFIED:20241125T101527Z
UID:6911-1732816800-1732822200@helsinginlumilautailijat.fi
SUMMARY:Yhteiset Sessarit @Talma
DESCRIPTION:Talman Sessarit Warriors ja Crew 2-ryhmille klo 18.00-19.30. Kokoontuminen rinteiden alhaalla. Muistakaa kypärä ja juomapullo! \nSerenalaiset voivat myös osallistua Talman tai Sveitsin Sessareille.
URL:https://helsinginlumilautailijat.fi/tapahtuma/yhteiset-sessarit-talma/
LOCATION:Talma Ski\, Talmantie 341\, Sipoo\, 04240\, Suomi
END:VEVENT
END:VCALENDAR