BEGIN:VCALENDAR
VERSION:2.0
PRODID:-//Helsingin Lumilautailijat RY - ECPv6.15.18//NONSGML v1.0//EN
CALSCALE:GREGORIAN
METHOD:PUBLISH
X-ORIGINAL-URL:https://helsinginlumilautailijat.fi
X-WR-CALDESC:Tapahtumat Helsingin Lumilautailijat RY
REFRESH-INTERVAL;VALUE=DURATION:PT1H
X-Robots-Tag:noindex
X-PUBLISHED-TTL:PT1H
BEGIN:VTIMEZONE
TZID:Europe/Helsinki
BEGIN:DAYLIGHT
TZOFFSETFROM:+0200
TZOFFSETTO:+0300
TZNAME:EEST
DTSTART:20240331T010000
END:DAYLIGHT
BEGIN:STANDARD
TZOFFSETFROM:+0300
TZOFFSETTO:+0200
TZNAME:EET
DTSTART:20241027T010000
END:STANDARD
BEGIN:DAYLIGHT
TZOFFSETFROM:+0200
TZOFFSETTO:+0300
TZNAME:EEST
DTSTART:20250330T010000
END:DAYLIGHT
BEGIN:STANDARD
TZOFFSETFROM:+0300
TZOFFSETTO:+0200
TZNAME:EET
DTSTART:20251026T010000
END:STANDARD
BEGIN:DAYLIGHT
TZOFFSETFROM:+0200
TZOFFSETTO:+0300
TZNAME:EEST
DTSTART:20260329T010000
END:DAYLIGHT
BEGIN:STANDARD
TZOFFSETFROM:+0300
TZOFFSETTO:+0200
TZNAME:EET
DTSTART:20261025T010000
END:STANDARD
END:VTIMEZONE
BEGIN:VEVENT
DTSTART;TZID=Europe/Helsinki:20250603T180000
DTEND;TZID=Europe/Helsinki:20250603T191500
DTSTAMP:20260419T182740
CREATED:20250530T054032Z
LAST-MODIFIED:20250530T055814Z
UID:7464-1748973600-1748978100@helsinginlumilautailijat.fi
SUMMARY:Kesätreenit @Herttoniemen Urheilupuisto
DESCRIPTION:Herttoniemen Urheilupuisto \nHerttoniemen urheilupuistossa ovat viikoittaiset fysiikkapainotteiset harjoitukset\, joissa myös pelaillaan erilaisia pallopelejä. Lisäksi teemme syyskaudella yhteislenkkejä herttoniemen urheilupuiston pururadoilla sekä porrastreenejä Myllypuron kuntoportailla. \nKesätreeniryhmä tullaan jakamaan kahteen osaan iän mukaan: \n\n2013-syntyneet ja nuoremmat\n2012-syntyneet ja vanhemmat\n\nTreenivarustus: Asianmukainen treenivaatetus\, juomapullo \nKokoontuminen Herttoniemen kentän laidalla.
URL:https://helsinginlumilautailijat.fi/tapahtuma/kesatreenit-herttoniemen-urheilupuisto-13/
LOCATION:Herttoniemen Urheilupuisto\, Siilitie 12\, Helsinki\, 00800\, Suomi
ATTACH;FMTTYPE=image/jpeg:https://helsinginlumilautailijat.fi/wp-content/uploads/PII7236-4.jpg
END:VEVENT
BEGIN:VEVENT
DTSTART;TZID=Europe/Helsinki:20250605T180000
DTEND;TZID=Europe/Helsinki:20250605T193000
DTSTAMP:20260419T182740
CREATED:20250530T061028Z
LAST-MODIFIED:20250530T061028Z
UID:7487-1749146400-1749151800@helsinginlumilautailijat.fi
SUMMARY:Kesätreenit @Skedesessarit Savela
DESCRIPTION:Skedesessarit Savelassa. \nSkeittaus on tärkeä lajinomainen harjoitus lumilautailulle. Käymme skeittaamassa pääkaupunkiseudun eri skeittipuistoissa kesä ja -syyskauden aikana. \nTreenivarustus: Skeittilauta\, juomapullo
URL:https://helsinginlumilautailijat.fi/tapahtuma/kesatreenit-skedesessarit-savela/
LOCATION:Savelan skeittipuisto\, Jengipolku 8\, Helsinki\, 00710
ATTACH;FMTTYPE=image/jpeg:https://helsinginlumilautailijat.fi/wp-content/uploads/PII7972-3.jpg
END:VEVENT
BEGIN:VEVENT
DTSTART;TZID=Europe/Helsinki:20250610T180000
DTEND;TZID=Europe/Helsinki:20250610T191500
DTSTAMP:20260419T182740
CREATED:20250530T054136Z
LAST-MODIFIED:20250530T055839Z
UID:7466-1749578400-1749582900@helsinginlumilautailijat.fi
SUMMARY:Kesätreenit @Herttoniemen Urheilupuisto
DESCRIPTION:Herttoniemen Urheilupuisto \nHerttoniemen urheilupuistossa ovat viikoittaiset fysiikkapainotteiset harjoitukset\, joissa myös pelaillaan erilaisia pallopelejä. Lisäksi teemme syyskaudella yhteislenkkejä herttoniemen urheilupuiston pururadoilla sekä porrastreenejä Myllypuron kuntoportailla. \nKesätreeniryhmä tullaan jakamaan kahteen osaan iän mukaan: \n\n2013-syntyneet ja nuoremmat\n2012-syntyneet ja vanhemmat\n\nTreenivarustus: Asianmukainen treenivaatetus\, juomapullo \nKokoontuminen Herttoniemen kentän laidalla.
URL:https://helsinginlumilautailijat.fi/tapahtuma/kesatreenit-herttoniemen-urheilupuisto-14/
LOCATION:Herttoniemen Urheilupuisto\, Siilitie 12\, Helsinki\, 00800\, Suomi
ATTACH;FMTTYPE=image/jpeg:https://helsinginlumilautailijat.fi/wp-content/uploads/PII7236-4.jpg
END:VEVENT
BEGIN:VEVENT
DTSTART;TZID=Europe/Helsinki:20250612T090000
DTEND;TZID=Europe/Helsinki:20250612T120000
DTSTAMP:20260419T182740
CREATED:20250530T062513Z
LAST-MODIFIED:20250530T062513Z
UID:7499-1749718800-1749729600@helsinginlumilautailijat.fi
SUMMARY:Kesätreenit @Laguuni Keilaniemi
DESCRIPTION:Laguuni Keilaniemi – Wakeboarding \nLaguuni on suuri vesiurheilupuisto. Keilaniemen kelluva elämyskeskus pitää sisällään mm. jättimäisen vesipuiston\, kaksi wake-rataa sekä poikkeukselliset melonta- ja SUP-puitteet. Laguunin harjoituksissa pääpaino on Wakessa. Keilaniemestä löytyy kaksi kaapelia. Kahdesta kaapeliradasta Pro-kaapeli on isommalla moottorilla toimiva\, hiukan pidempi rata. Pro-radalle on asennettu enemmän hyppyreitä ja reilejä\, joita voi halutessaan hyödyntää. Lyhyempi Easy on aloittelijalle ensisijainen valinta\, vaikka kaikki voivat huoletta suunnata myös pro-kaapelille. Wake on yksi meidän lajinomaisista harjoituksista. Aktiviteetteihin osallistujan täytyy olla kuitenkin yli 6-vuotias ja uimataitoinen. \nLaguunin wakeboarding -treeneihin osallistuvat tullaan jakamaan kolmeen ryhmään siten\, että kaikki ryhmät saavat 1h wakevuoron. Ryhmät jaetaan MyClubiin ilmoittautuneiden kesken ja julkaistaan viestintäkanavissa edeltävänä päivänä. \nTreenivarustus: Uikkarit ja pyyhe mukaan. Laguunista saa laudan\, kypärän sekä märkäpuvun. Sisätilat laiturilla ovat hyvin rajalliset\, joten säänmukainen varustus on tärkeää.
URL:https://helsinginlumilautailijat.fi/tapahtuma/kesatreenit-laguuni-keilaniemi/
LOCATION:Laguuni Keilaniemi\, Keilalahdentie 4\, Espoo\, 02150\, Suomi
ATTACH;FMTTYPE=image/jpeg:https://helsinginlumilautailijat.fi/wp-content/uploads/PII9713-2.jpg
END:VEVENT
BEGIN:VEVENT
DTSTART;TZID=Europe/Helsinki:20250617T180000
DTEND;TZID=Europe/Helsinki:20250617T191500
DTSTAMP:20260419T182740
CREATED:20250530T054217Z
LAST-MODIFIED:20250530T055906Z
UID:7468-1750183200-1750187700@helsinginlumilautailijat.fi
SUMMARY:Kesätreenit @Herttoniemen Urheilupuisto
DESCRIPTION:Herttoniemen Urheilupuisto \nHerttoniemen urheilupuistossa ovat viikoittaiset fysiikkapainotteiset harjoitukset\, joissa myös pelaillaan erilaisia pallopelejä. Lisäksi teemme syyskaudella yhteislenkkejä herttoniemen urheilupuiston pururadoilla sekä porrastreenejä Myllypuron kuntoportailla. \nKesätreeniryhmä tullaan jakamaan kahteen osaan iän mukaan: \n\n2013-syntyneet ja nuoremmat\n2012-syntyneet ja vanhemmat\n\nTreenivarustus: Asianmukainen treenivaatetus\, juomapullo \nKokoontuminen Herttoniemen kentän laidalla.
URL:https://helsinginlumilautailijat.fi/tapahtuma/kesatreenit-herttoniemen-urheilupuisto-15/
LOCATION:Herttoniemen Urheilupuisto\, Siilitie 12\, Helsinki\, 00800\, Suomi
ATTACH;FMTTYPE=image/jpeg:https://helsinginlumilautailijat.fi/wp-content/uploads/PII7236-4.jpg
END:VEVENT
BEGIN:VEVENT
DTSTART;TZID=Europe/Helsinki:20250624T180000
DTEND;TZID=Europe/Helsinki:20250624T191500
DTSTAMP:20260419T182740
CREATED:20250530T054339Z
LAST-MODIFIED:20250530T055928Z
UID:7470-1750788000-1750792500@helsinginlumilautailijat.fi
SUMMARY:Kesätreenit @Herttoniemen Urheilupuisto
DESCRIPTION:Herttoniemen Urheilupuisto \nHerttoniemen urheilupuistossa ovat viikoittaiset fysiikkapainotteiset harjoitukset\, joissa myös pelaillaan erilaisia pallopelejä. Lisäksi teemme syyskaudella yhteislenkkejä herttoniemen urheilupuiston pururadoilla sekä porrastreenejä Myllypuron kuntoportailla. \nKesätreeniryhmä tullaan jakamaan kahteen osaan iän mukaan: \n\n2013-syntyneet ja nuoremmat\n2012-syntyneet ja vanhemmat\n\nTreenivarustus: Asianmukainen treenivaatetus\, juomapullo \nKokoontuminen Herttoniemen kentän laidalla.
URL:https://helsinginlumilautailijat.fi/tapahtuma/kesatreenit-herttoniemen-urheilupuisto-16/
LOCATION:Herttoniemen Urheilupuisto\, Siilitie 12\, Helsinki\, 00800\, Suomi
ATTACH;FMTTYPE=image/jpeg:https://helsinginlumilautailijat.fi/wp-content/uploads/PII7236-4.jpg
END:VEVENT
BEGIN:VEVENT
DTSTART;TZID=Europe/Helsinki:20250626T180000
DTEND;TZID=Europe/Helsinki:20250626T193000
DTSTAMP:20260419T182740
CREATED:20250530T061329Z
LAST-MODIFIED:20250530T061329Z
UID:7491-1750960800-1750966200@helsinginlumilautailijat.fi
SUMMARY:Kesätreenit @Skedesessarit Leppävaara
DESCRIPTION:Skedesessarit Leppävaarassa. \nSkeittaus on tärkeä lajinomainen harjoitus lumilautailulle. Käymme skeittaamassa pääkaupunkiseudun eri skeittipuistoissa kesä ja -syyskauden aikana. \nTreenivarustus: Skeittilauta\, juomapullo
URL:https://helsinginlumilautailijat.fi/tapahtuma/kesatreenit-skedesessarit-leppavaara-2/
LOCATION:Leppävaaran Skeittipuisto\, Veräjäpellonkatu 17\, Espoo\, 02650\, Suomi
ATTACH;FMTTYPE=image/jpeg:https://helsinginlumilautailijat.fi/wp-content/uploads/PII7972-3.jpg
END:VEVENT
END:VCALENDAR