BEGIN:VCALENDAR
VERSION:2.0
PRODID:-//Helsingin Lumilautailijat RY - ECPv6.15.18//NONSGML v1.0//EN
CALSCALE:GREGORIAN
METHOD:PUBLISH
X-ORIGINAL-URL:https://helsinginlumilautailijat.fi
X-WR-CALDESC:Tapahtumat Helsingin Lumilautailijat RY
REFRESH-INTERVAL;VALUE=DURATION:PT1H
X-Robots-Tag:noindex
X-PUBLISHED-TTL:PT1H
BEGIN:VTIMEZONE
TZID:Europe/Helsinki
BEGIN:DAYLIGHT
TZOFFSETFROM:+0200
TZOFFSETTO:+0300
TZNAME:EEST
DTSTART:20190331T010000
END:DAYLIGHT
BEGIN:STANDARD
TZOFFSETFROM:+0300
TZOFFSETTO:+0200
TZNAME:EET
DTSTART:20191027T010000
END:STANDARD
BEGIN:DAYLIGHT
TZOFFSETFROM:+0200
TZOFFSETTO:+0300
TZNAME:EEST
DTSTART:20200329T010000
END:DAYLIGHT
BEGIN:STANDARD
TZOFFSETFROM:+0300
TZOFFSETTO:+0200
TZNAME:EET
DTSTART:20201025T010000
END:STANDARD
BEGIN:DAYLIGHT
TZOFFSETFROM:+0200
TZOFFSETTO:+0300
TZNAME:EEST
DTSTART:20210328T010000
END:DAYLIGHT
BEGIN:STANDARD
TZOFFSETFROM:+0300
TZOFFSETTO:+0200
TZNAME:EET
DTSTART:20211031T010000
END:STANDARD
END:VTIMEZONE
BEGIN:VEVENT
DTSTART;TZID=Europe/Helsinki:20200123T183000
DTEND;TZID=Europe/Helsinki:20200123T200000
DTSTAMP:20260423T132316
CREATED:20191212T205643Z
LAST-MODIFIED:20200107T183814Z
UID:121-1579804200-1579809600@helsinginlumilautailijat.fi
SUMMARY:SESSARIT
DESCRIPTION:Ykkösnyrkki & Talma Crew
URL:https://helsinginlumilautailijat.fi/tapahtuma/sessarit-2/
END:VEVENT
BEGIN:VEVENT
DTSTART;TZID=Europe/Helsinki:20200125T080000
DTEND;TZID=Europe/Helsinki:20200126T170000
DTSTAMP:20260423T132316
CREATED:20191212T200547Z
LAST-MODIFIED:20191212T200547Z
UID:79-1579939200-1580058000@helsinginlumilautailijat.fi
SUMMARY:QKLS TOUR
DESCRIPTION:Iso-Syöte – slopestyle & big air
URL:https://helsinginlumilautailijat.fi/tapahtuma/qkls-tour/
END:VEVENT
BEGIN:VEVENT
DTSTART;TZID=Europe/Helsinki:20200127T200000
DTEND;TZID=Europe/Helsinki:20200127T220000
DTSTAMP:20260423T132316
CREATED:20200109T171335Z
LAST-MODIFIED:20200121T135710Z
UID:513-1580155200-1580162400@helsinginlumilautailijat.fi
SUMMARY:TRAMPPA
DESCRIPTION:Valmentajat: Peetu & Lipi. \nTapaaminen sisäänkäynnillä.
URL:https://helsinginlumilautailijat.fi/tapahtuma/liikuntamylly-tramppa-3/
END:VEVENT
BEGIN:VEVENT
DTSTART;TZID=Europe/Helsinki:20200128T183000
DTEND;TZID=Europe/Helsinki:20200128T200000
DTSTAMP:20260423T132316
CREATED:20191217T172029Z
LAST-MODIFIED:20200107T183632Z
UID:349-1580236200-1580241600@helsinginlumilautailijat.fi
SUMMARY:YKKÖSNYRKKI
DESCRIPTION:
URL:https://helsinginlumilautailijat.fi/tapahtuma/ykkosnyrkki-3/
END:VEVENT
BEGIN:VEVENT
DTSTART;TZID=Europe/Helsinki:20200129T080000
DTEND;TZID=Europe/Helsinki:20200202T170000
DTSTAMP:20260423T132316
CREATED:20191212T201615Z
LAST-MODIFIED:20191212T201615Z
UID:88-1580284800-1580662800@helsinginlumilautailijat.fi
SUMMARY:QKLS TOUR
DESCRIPTION:QKLS Rookie Tour\, Ruka – slopestyle
URL:https://helsinginlumilautailijat.fi/tapahtuma/qkls-tour-3/
END:VEVENT
BEGIN:VEVENT
DTSTART;TZID=Europe/Helsinki:20200130T183000
DTEND;TZID=Europe/Helsinki:20200130T200000
DTSTAMP:20260423T132316
CREATED:20191217T172132Z
LAST-MODIFIED:20200107T183552Z
UID:351-1580409000-1580414400@helsinginlumilautailijat.fi
SUMMARY:SESSARIT
DESCRIPTION:Ykkösnyrkki & Talma Crew
URL:https://helsinginlumilautailijat.fi/tapahtuma/sessarit-3/
END:VEVENT
BEGIN:VEVENT
DTSTART;TZID=Europe/Helsinki:20200203T200000
DTEND;TZID=Europe/Helsinki:20200203T220000
DTSTAMP:20260423T132316
CREATED:20200109T171411Z
LAST-MODIFIED:20200121T135312Z
UID:515-1580760000-1580767200@helsinginlumilautailijat.fi
SUMMARY:TRAMPPA
DESCRIPTION:Valmentajat: Peetu & Lipi. \nTapaaminen sisäänkäynnillä.
URL:https://helsinginlumilautailijat.fi/tapahtuma/liikuntamylly-tramppa-4/
END:VEVENT
BEGIN:VEVENT
DTSTART;TZID=Europe/Helsinki:20200204T183000
DTEND;TZID=Europe/Helsinki:20200204T200000
DTSTAMP:20260423T132316
CREATED:20191217T172231Z
LAST-MODIFIED:20200107T183534Z
UID:353-1580841000-1580846400@helsinginlumilautailijat.fi
SUMMARY:YKKÖSNYRKKI
DESCRIPTION:
URL:https://helsinginlumilautailijat.fi/tapahtuma/ykkosnyrkki-4/
END:VEVENT
BEGIN:VEVENT
DTSTART;TZID=Europe/Helsinki:20200206T183000
DTEND;TZID=Europe/Helsinki:20200206T200000
DTSTAMP:20260423T132316
CREATED:20191217T172305Z
LAST-MODIFIED:20200107T183514Z
UID:355-1581013800-1581019200@helsinginlumilautailijat.fi
SUMMARY:SESSARIT
DESCRIPTION:Ykkösnyrkki & Talma Crew
URL:https://helsinginlumilautailijat.fi/tapahtuma/sessarit-4/
END:VEVENT
BEGIN:VEVENT
DTSTART;TZID=Europe/Helsinki:20200209T180000
DTEND;TZID=Europe/Helsinki:20200209T193000
DTSTAMP:20260423T132316
CREATED:20200109T171459Z
LAST-MODIFIED:20200203T200910Z
UID:517-1581271200-1581276600@helsinginlumilautailijat.fi
SUMMARY:TRAMPPA
DESCRIPTION:Valmentajat: Peetu & Lipi. \nTapaaminen sisäänkäynnillä.
URL:https://helsinginlumilautailijat.fi/tapahtuma/liikuntamylly-tramppa-5/
LOCATION:Superpark Vantaa\, Tammiston kauppatie 13\, Vantaa\, 01510
END:VEVENT
BEGIN:VEVENT
DTSTART;TZID=Europe/Helsinki:20200211T183000
DTEND;TZID=Europe/Helsinki:20200211T200000
DTSTAMP:20260423T132316
CREATED:20191217T172343Z
LAST-MODIFIED:20200107T182849Z
UID:357-1581445800-1581451200@helsinginlumilautailijat.fi
SUMMARY:YKKÖSNYRKKI
DESCRIPTION:
URL:https://helsinginlumilautailijat.fi/tapahtuma/ykkosnyrkki-5/
END:VEVENT
BEGIN:VEVENT
DTSTART;TZID=Europe/Helsinki:20200213T183000
DTEND;TZID=Europe/Helsinki:20200213T200000
DTSTAMP:20260423T132316
CREATED:20191217T172423Z
LAST-MODIFIED:20200107T182911Z
UID:359-1581618600-1581624000@helsinginlumilautailijat.fi
SUMMARY:SESSARIT
DESCRIPTION:Ykkösnyrkki & Talma Crew
URL:https://helsinginlumilautailijat.fi/tapahtuma/sessarit-5/
END:VEVENT
BEGIN:VEVENT
DTSTART;TZID=Europe/Helsinki:20200215T080000
DTEND;TZID=Europe/Helsinki:20200216T170000
DTSTAMP:20260423T132316
CREATED:20191212T200836Z
LAST-MODIFIED:20191212T201503Z
UID:81-1581753600-1581872400@helsinginlumilautailijat.fi
SUMMARY:QKLS TOUR
DESCRIPTION:Talma – slopestyle & pipe jam
URL:https://helsinginlumilautailijat.fi/tapahtuma/qkls-tour-2/
END:VEVENT
BEGIN:VEVENT
DTSTART;TZID=Europe/Helsinki:20200216T180000
DTEND;TZID=Europe/Helsinki:20200216T193000
DTSTAMP:20260423T132316
CREATED:20200109T171537Z
LAST-MODIFIED:20200203T201044Z
UID:519-1581876000-1581881400@helsinginlumilautailijat.fi
SUMMARY:TRAMPPA
DESCRIPTION:Valmentajat: Peetu & Lipi. \nTapaaminen sisäänkäynnillä.
URL:https://helsinginlumilautailijat.fi/tapahtuma/liikuntamylly-tramppa-6/
LOCATION:Superpark Vantaa\, Tammiston kauppatie 13\, Vantaa\, 01510
END:VEVENT
BEGIN:VEVENT
DTSTART;TZID=Europe/Helsinki:20200218T183000
DTEND;TZID=Europe/Helsinki:20200218T200000
DTSTAMP:20260423T132316
CREATED:20200210T113250Z
LAST-MODIFIED:20200210T113250Z
UID:724-1582050600-1582056000@helsinginlumilautailijat.fi
SUMMARY:YKKÖSNYRKKI
DESCRIPTION:Valmentajat Peetu & Lipi \nTapaaminen grillikatoksen luona.
URL:https://helsinginlumilautailijat.fi/tapahtuma/ykkosnyrkki-13/
END:VEVENT
BEGIN:VEVENT
DTSTART;TZID=Europe/Helsinki:20200220T183000
DTEND;TZID=Europe/Helsinki:20200220T200000
DTSTAMP:20260423T132316
CREATED:20200210T113406Z
LAST-MODIFIED:20200210T113406Z
UID:726-1582223400-1582228800@helsinginlumilautailijat.fi
SUMMARY:SESSARIT
DESCRIPTION:Ykkösnyrkki & Talma Crew \nValmentajat: Peetu & Lipi \nTapaaminen grillikatoksen edessä.
URL:https://helsinginlumilautailijat.fi/tapahtuma/sessarit-13/
END:VEVENT
BEGIN:VEVENT
DTSTART;TZID=Europe/Helsinki:20200223T180000
DTEND;TZID=Europe/Helsinki:20200223T193000
DTSTAMP:20260423T132316
CREATED:20200210T113628Z
LAST-MODIFIED:20200210T113628Z
UID:728-1582480800-1582486200@helsinginlumilautailijat.fi
SUMMARY:TRAMPPA
DESCRIPTION:Tapaaminen Superparkin aulassa. \n 
URL:https://helsinginlumilautailijat.fi/tapahtuma/tramppa-2/
LOCATION:Superpark Vantaa\, Tammiston kauppatie 13\, Vantaa\, 01510
END:VEVENT
BEGIN:VEVENT
DTSTART;VALUE=DATE:20200316
DTEND;VALUE=DATE:20200414
DTSTAMP:20260423T132316
CREATED:20200323T104853Z
LAST-MODIFIED:20200323T105440Z
UID:869-1584316800-1586822399@helsinginlumilautailijat.fi
SUMMARY:KARANTEENI
DESCRIPTION:Yleisen turvallisuuden ja hyvinvoinnin takia\, pysy kotona! \nToimintaa tarkastellaan 13.4. uudestaan. \nPysytään terveinä!
URL:https://helsinginlumilautailijat.fi/tapahtuma/karanteeni/
END:VEVENT
BEGIN:VEVENT
DTSTART;TZID=Europe/Helsinki:20200325T180000
DTEND;TZID=Europe/Helsinki:20200325T183000
DTSTAMP:20260423T132316
CREATED:20200323T131002Z
LAST-MODIFIED:20200323T131002Z
UID:876-1585159200-1585161000@helsinginlumilautailijat.fi
SUMMARY:FYSIIKKATREENI -LIVE
DESCRIPTION:Avoimet fysiikka treenit instagramissa. \nSeuraa @helsinginlumilautailijat instaa ja tuu mukaan! \nValmentajat: Eero\, Janne\, Peetu
URL:https://helsinginlumilautailijat.fi/tapahtuma/fysiikkatreeni-live/
END:VEVENT
BEGIN:VEVENT
DTSTART;TZID=Europe/Helsinki:20200329T180000
DTEND;TZID=Europe/Helsinki:20200329T183000
DTSTAMP:20260423T132316
CREATED:20200323T131325Z
LAST-MODIFIED:20200323T131325Z
UID:879-1585504800-1585506600@helsinginlumilautailijat.fi
SUMMARY:FYSIIKKATREENI - LIVE
DESCRIPTION:Avoimet fysiikka treenit instagramissa. \nSeuraa @helsinginlumilautailijat instaa ja tuu mukaan! \nValmentajat: Eero\, Janne\, Peetu
URL:https://helsinginlumilautailijat.fi/tapahtuma/fysiikkatreeni-live-2/
END:VEVENT
BEGIN:VEVENT
DTSTART;TZID=Europe/Helsinki:20200401T180000
DTEND;TZID=Europe/Helsinki:20200401T183000
DTSTAMP:20260423T132316
CREATED:20200323T131407Z
LAST-MODIFIED:20200323T131407Z
UID:881-1585764000-1585765800@helsinginlumilautailijat.fi
SUMMARY:FYSIIKKATREENI - LIVE
DESCRIPTION:Avoimet fysiikka treenit instagramissa. \nSeuraa @helsinginlumilautailijat instaa ja tuu mukaan! \nValmentajat: Eero\, Janne\, Peetu
URL:https://helsinginlumilautailijat.fi/tapahtuma/fysiikkatreeni-live-3/
END:VEVENT
BEGIN:VEVENT
DTSTART;TZID=Europe/Helsinki:20200405T180000
DTEND;TZID=Europe/Helsinki:20200405T183000
DTSTAMP:20260423T132316
CREATED:20200323T131443Z
LAST-MODIFIED:20200323T131443Z
UID:883-1586109600-1586111400@helsinginlumilautailijat.fi
SUMMARY:FYSIIKKATREENI - LIVE
DESCRIPTION:Avoimet fysiikka treenit instagramissa. \nSeuraa @helsinginlumilautailijat instaa ja tuu mukaan! \nValmentajat: Eero\, Janne\, Peetu
URL:https://helsinginlumilautailijat.fi/tapahtuma/fysiikkatreeni-live-4/
END:VEVENT
BEGIN:VEVENT
DTSTART;TZID=Europe/Helsinki:20200408T180000
DTEND;TZID=Europe/Helsinki:20200408T183000
DTSTAMP:20260423T132316
CREATED:20200323T131523Z
LAST-MODIFIED:20200323T131523Z
UID:885-1586368800-1586370600@helsinginlumilautailijat.fi
SUMMARY:FYSIIKKATREENI - LIVE
DESCRIPTION:Avoimet fysiikka treenit instagramissa. \nSeuraa @helsinginlumilautailijat instaa ja tuu mukaan! \nValmentajat: Eero\, Janne\, Peetu
URL:https://helsinginlumilautailijat.fi/tapahtuma/fysiikkatreeni-live-5/
END:VEVENT
BEGIN:VEVENT
DTSTART;TZID=Europe/Helsinki:20200412T180000
DTEND;TZID=Europe/Helsinki:20200412T183000
DTSTAMP:20260423T132316
CREATED:20200323T131601Z
LAST-MODIFIED:20200323T131601Z
UID:887-1586714400-1586716200@helsinginlumilautailijat.fi
SUMMARY:FYSIIKKATREENI - LIVE
DESCRIPTION:Avoimet fysiikka treenit instagramissa. \nSeuraa @helsinginlumilautailijat instaa ja tuu mukaan! \nValmentajat: Eero\, Janne\, Peetu
URL:https://helsinginlumilautailijat.fi/tapahtuma/fysiikkatreeni-live-6/
END:VEVENT
BEGIN:VEVENT
DTSTART;TZID=Europe/Helsinki:20200415T180000
DTEND;TZID=Europe/Helsinki:20200415T183000
DTSTAMP:20260423T132316
CREATED:20200413T170326Z
LAST-MODIFIED:20200413T170326Z
UID:924-1586973600-1586975400@helsinginlumilautailijat.fi
SUMMARY:FYSIIKKATREENI LIVE
DESCRIPTION:Kesäkuntoon Eeron\, Peetun ja Jannen opastuksella! \nAvoimet treenit ke ja su 18:00-> @helsinginlumilautailijat instagram
URL:https://helsinginlumilautailijat.fi/tapahtuma/fysiikkatreeni-live-7/
END:VEVENT
BEGIN:VEVENT
DTSTART;TZID=Europe/Helsinki:20200419T180000
DTEND;TZID=Europe/Helsinki:20200419T183000
DTSTAMP:20260423T132316
CREATED:20200413T170454Z
LAST-MODIFIED:20200413T170454Z
UID:926-1587319200-1587321000@helsinginlumilautailijat.fi
SUMMARY:FYSIIKKATREENI LIVE
DESCRIPTION:Kesäkuntoon Eeron\, Peetun ja Jannen opastuksella \nAvoimet treenit ke ja su 18:00-> @helsinginlumilautailijat instagram
URL:https://helsinginlumilautailijat.fi/tapahtuma/fysiikkatreeni-live-8/
END:VEVENT
BEGIN:VEVENT
DTSTART;TZID=Europe/Helsinki:20200422T180000
DTEND;TZID=Europe/Helsinki:20200422T183000
DTSTAMP:20260423T132316
CREATED:20200413T170843Z
LAST-MODIFIED:20200413T170843Z
UID:928-1587578400-1587580200@helsinginlumilautailijat.fi
SUMMARY:FYSIIKKATREENI LIVE
DESCRIPTION:Kesäkuntoon Eeron\, Peetun ja Jannen opastuksella \nAvoimet treenit ke ja su 18:00-> @helsinginlumilautailijat instagram
URL:https://helsinginlumilautailijat.fi/tapahtuma/fysiikkatreeni-live-9/
END:VEVENT
BEGIN:VEVENT
DTSTART;TZID=Europe/Helsinki:20200426T180000
DTEND;TZID=Europe/Helsinki:20200426T183000
DTSTAMP:20260423T132316
CREATED:20200413T171219Z
LAST-MODIFIED:20200413T171219Z
UID:930-1587924000-1587925800@helsinginlumilautailijat.fi
SUMMARY:FYSIIKKATREENI LIVE
DESCRIPTION:Kesäkuntoon Eeron\, Peetun ja Jannen opastuksella \nAvoimet treenit ke ja su 18:00-> @helsinginlumilautailijat instagram
URL:https://helsinginlumilautailijat.fi/tapahtuma/fysiikkatreeni-live-10/
END:VEVENT
BEGIN:VEVENT
DTSTART;TZID=Europe/Helsinki:20200429T180000
DTEND;TZID=Europe/Helsinki:20200429T183000
DTSTAMP:20260423T132316
CREATED:20200413T171305Z
LAST-MODIFIED:20200413T171305Z
UID:932-1588183200-1588185000@helsinginlumilautailijat.fi
SUMMARY:FYSIIKKATREENI LIVE
DESCRIPTION:Kesäkuntoon Eeron\, Peetun ja Jannen opastuksella \nAvoimet treenit ke ja su 18:00-> @helsinginlumilautailijat instagram
URL:https://helsinginlumilautailijat.fi/tapahtuma/fysiikkatreeni-live-11/
END:VEVENT
BEGIN:VEVENT
DTSTART;TZID=Europe/Helsinki:20200510T180000
DTEND;TZID=Europe/Helsinki:20200510T190000
DTSTAMP:20260423T132316
CREATED:20200427T193445Z
LAST-MODIFIED:20200429T191833Z
UID:969-1589133600-1589137200@helsinginlumilautailijat.fi
SUMMARY:KESÄTREENI LANSEERAUS
DESCRIPTION:Julkistamme kesän 2020 treeniohjelman sekä paketit. \nKaikille avoin fysiikkatreeni. \n 
URL:https://helsinginlumilautailijat.fi/tapahtuma/kesatreeni-lanseeraus/
LOCATION:HELTV
END:VEVENT
END:VCALENDAR