BEGIN:VCALENDAR
VERSION:2.0
PRODID:-//Helsingin Lumilautailijat RY - ECPv6.15.18//NONSGML v1.0//EN
CALSCALE:GREGORIAN
METHOD:PUBLISH
X-ORIGINAL-URL:https://helsinginlumilautailijat.fi
X-WR-CALDESC:Tapahtumat Helsingin Lumilautailijat RY
REFRESH-INTERVAL;VALUE=DURATION:PT1H
X-Robots-Tag:noindex
X-PUBLISHED-TTL:PT1H
BEGIN:VTIMEZONE
TZID:Europe/Helsinki
BEGIN:DAYLIGHT
TZOFFSETFROM:+0200
TZOFFSETTO:+0300
TZNAME:EEST
DTSTART:20240331T010000
END:DAYLIGHT
BEGIN:STANDARD
TZOFFSETFROM:+0300
TZOFFSETTO:+0200
TZNAME:EET
DTSTART:20241027T010000
END:STANDARD
BEGIN:DAYLIGHT
TZOFFSETFROM:+0200
TZOFFSETTO:+0300
TZNAME:EEST
DTSTART:20250330T010000
END:DAYLIGHT
BEGIN:STANDARD
TZOFFSETFROM:+0300
TZOFFSETTO:+0200
TZNAME:EET
DTSTART:20251026T010000
END:STANDARD
BEGIN:DAYLIGHT
TZOFFSETFROM:+0200
TZOFFSETTO:+0300
TZNAME:EEST
DTSTART:20260329T010000
END:DAYLIGHT
BEGIN:STANDARD
TZOFFSETFROM:+0300
TZOFFSETTO:+0200
TZNAME:EET
DTSTART:20261025T010000
END:STANDARD
END:VTIMEZONE
BEGIN:VEVENT
DTSTART;TZID=Europe/Helsinki:20250305T180000
DTEND;TZID=Europe/Helsinki:20250305T193000
DTSTAMP:20260420T042107
CREATED:20241003T072242Z
LAST-MODIFIED:20241003T072242Z
UID:6639-1741197600-1741203000@helsinginlumilautailijat.fi
SUMMARY:Seniors -ryhmät Talma
DESCRIPTION:Talman harjoitukset Seniors -ryhmille klo 18.00-19.30. Suositellaan kypärän käyttöä ja muita mahdollisia suojia. Kokoontuminen rinteiden alhaalla.
URL:https://helsinginlumilautailijat.fi/tapahtuma/seniors-ryhmat-talma-25/
LOCATION:Talma Ski\, Talmantie 341\, Sipoo\, 04240\, Suomi
END:VEVENT
BEGIN:VEVENT
DTSTART;TZID=Europe/Helsinki:20250306T180000
DTEND;TZID=Europe/Helsinki:20250306T193000
DTSTAMP:20260420T042107
CREATED:20241003T081634Z
LAST-MODIFIED:20241003T081634Z
UID:6729-1741284000-1741289400@helsinginlumilautailijat.fi
SUMMARY:Crew 2\, Warriors & Youth -ryhmät Talma /// Crew 1 & Warriors -ryhmät Serena
DESCRIPTION:Talman harjoitukset Warriors\, Crew 2 ja Youth -ryhmille klo 18.00-19.30. Kypäräpakko! Kokoontuminen rinteiden alhaalla. Juomapullo kannattaa myös ottaa mukaan! \nSerenan harjoitukset Crew 1 ja Warriors -ryhmille klo 18.00-19.30. Kypäräpakko! Kokoontuminen rinteiden alhaalla. Juomapullo kannattaa myös ottaa mukaan!
URL:https://helsinginlumilautailijat.fi/tapahtuma/crew-2-warriors-youth-ryhmat-talma-crew-1-warriors-ryhmat-serena-11/
END:VEVENT
BEGIN:VEVENT
DTSTART;TZID=Europe/Helsinki:20250309T100000
DTEND;TZID=Europe/Helsinki:20250309T113000
DTSTAMP:20260420T042107
CREATED:20241003T083116Z
LAST-MODIFIED:20241003T083116Z
UID:6753-1741514400-1741519800@helsinginlumilautailijat.fi
SUMMARY:Sunnuntai Sessarit Serena\, Sveitsi ja Talma
DESCRIPTION:Yhteiset sunnuntai sessarit Serenassa klo 11.00-12.30 Crew 1 ja Warriors -ryhmille. Muistakaa kypärä ja juomapullo! \nYhteiset sunnuntai sessarit Sveitsissä klo 10.00-11.30 Crew 1 ja Warriors -ryhmille. Muistakaa kypärä ja juomapullo! \nYhteiset sunnuntai sessarit Talmassa klo 10.00-11.30. Crew 1\, Crew 2\, Warriors-ryhmille. Muistakaa kypärä ja juomapullo!
URL:https://helsinginlumilautailijat.fi/tapahtuma/sunnuntai-sessarit-serena-sveitsi-ja-talma-7/
END:VEVENT
BEGIN:VEVENT
DTSTART;TZID=Europe/Helsinki:20250310T180000
DTEND;TZID=Europe/Helsinki:20250310T193000
DTSTAMP:20260420T042107
CREATED:20241003T073429Z
LAST-MODIFIED:20241003T073429Z
UID:6669-1741629600-1741635000@helsinginlumilautailijat.fi
SUMMARY:Seniors -ryhmät Sveitsi
DESCRIPTION:Sveitsin harjoitukset Seniors -ryhmille klo 18.00-19.30. Suositellaan kypärän käyttöä ja muita mahdollisia suojia. Kokoontuminen rinnekahvilan edessä.
URL:https://helsinginlumilautailijat.fi/tapahtuma/seniors-ryhmat-sveitsi-25/
LOCATION:Sveitsi\, Pujottelutie 1\, Hyvinkää\, 05880\, Suomi
END:VEVENT
BEGIN:VEVENT
DTSTART;TZID=Europe/Helsinki:20250311T180000
DTEND;TZID=Europe/Helsinki:20250311T193000
DTSTAMP:20260420T042107
CREATED:20241003T080256Z
LAST-MODIFIED:20241003T080256Z
UID:6699-1741716000-1741721400@helsinginlumilautailijat.fi
SUMMARY:Crew 1 & Warriors -ryhmät Sveitsi /// Crew 1 & 2 -ryhmät Talma
DESCRIPTION:Sveitsin harjoitukset Crew 1 ja Warriors -ryhmille klo 18.00-19.30. Kypäräpakko! Kokoontuminen rinnekahvilan edessä. Juomapullo kannattaa myös ottaa mukaan! \nTalman harjoitukset Crew 1 ja Crew 2 -ryhmille klo 18.00-19.30. Kypäräpakko! Kokoontuminen rinteiden alhaalla. Juomapullo kannattaa myös ottaa mukaan!
URL:https://helsinginlumilautailijat.fi/tapahtuma/crew-1-warriors-ryhmat-sveitsi-crew-1-2-ryhmat-talma-27/
END:VEVENT
BEGIN:VEVENT
DTSTART;TZID=Europe/Helsinki:20250312T180000
DTEND;TZID=Europe/Helsinki:20250312T193000
DTSTAMP:20260420T042107
CREATED:20241003T072337Z
LAST-MODIFIED:20241003T072337Z
UID:6641-1741802400-1741807800@helsinginlumilautailijat.fi
SUMMARY:Seniors -ryhmät Talma
DESCRIPTION:Talman harjoitukset Seniors -ryhmille klo 18.00-19.30. Suositellaan kypärän käyttöä ja muita mahdollisia suojia. Kokoontuminen rinteiden alhaalla.
URL:https://helsinginlumilautailijat.fi/tapahtuma/seniors-ryhmat-talma-26/
LOCATION:Talma Ski\, Talmantie 341\, Sipoo\, 04240\, Suomi
END:VEVENT
BEGIN:VEVENT
DTSTART;TZID=Europe/Helsinki:20250313T180000
DTEND;TZID=Europe/Helsinki:20250313T193000
DTSTAMP:20260420T042107
CREATED:20241003T081704Z
LAST-MODIFIED:20241003T081704Z
UID:6731-1741888800-1741894200@helsinginlumilautailijat.fi
SUMMARY:Crew 2\, Warriors & Youth -ryhmät Talma /// Crew 1 & Warriors -ryhmät Serena
DESCRIPTION:Talman harjoitukset Warriors\, Crew 2 ja Youth -ryhmille klo 18.00-19.30. Kypäräpakko! Kokoontuminen rinteiden alhaalla. Juomapullo kannattaa myös ottaa mukaan! \nSerenan harjoitukset Crew 1 ja Warriors -ryhmille klo 18.00-19.30. Kypäräpakko! Kokoontuminen rinteiden alhaalla. Juomapullo kannattaa myös ottaa mukaan!
URL:https://helsinginlumilautailijat.fi/tapahtuma/crew-2-warriors-youth-ryhmat-talma-crew-1-warriors-ryhmat-serena-12/
END:VEVENT
BEGIN:VEVENT
DTSTART;TZID=Europe/Helsinki:20250316T100000
DTEND;TZID=Europe/Helsinki:20250316T113000
DTSTAMP:20260420T042107
CREATED:20241003T084245Z
LAST-MODIFIED:20241003T084245Z
UID:6771-1742119200-1742124600@helsinginlumilautailijat.fi
SUMMARY:Sunnuntai Sessarit Sveitsi
DESCRIPTION:Yhteiset sunnuntai sessarit Sveitsissä klo 10.00-11.30 Crew 1 ja Warriors -ryhmille. Muistakaa kypärä ja juomapullo!
URL:https://helsinginlumilautailijat.fi/tapahtuma/sunnuntai-sessarit-sveitsi-17/
LOCATION:Sveitsi\, Pujottelutie 1\, Hyvinkää\, 05880\, Suomi
END:VEVENT
BEGIN:VEVENT
DTSTART;TZID=Europe/Helsinki:20250316T183000
DTEND;TZID=Europe/Helsinki:20250316T200000
DTSTAMP:20260420T042107
CREATED:20241003T070931Z
LAST-MODIFIED:20241003T070931Z
UID:6619-1742149800-1742155200@helsinginlumilautailijat.fi
SUMMARY:Superpark Vantaa Harjoitukset
DESCRIPTION:Superpark Vantaa harjoitukset klo 18.30-20.00 \n\n\nSuperpark on sisäaktiviteettipuisto\, josta löytyy laaja valikoima erilaisia aktiviteetteja. Seuran oheisharjoittelussa käytämme enimmäkseen ”Freestyle hallin” aktiviteetteja\, kuten trampoliineja\, air trackia\, big air -hyppyriä ja skeittipuistoa. Harjoittelu Superparkissa on osittain ohjattua\, mutta suurimmaksi osaksi omatoimista. Oheisharjoittelu varustuksessa olisi hyvä huomioida asianmukainen treenivaatetus\, juomapullo & skeittilauta/skuutti\, jos löytyy (Superparkissa on muutamia laina skeittejä ja skuutteja). \nPaikalle on hyvä saapua ajoissa\, sillä ovet menevät lukkoon harjoitusten alkaessa. Suuresta jäsenmäärästä johtuen sisaruksilla eikä vanhemmilla ole mahdollista käyttää Superparkin aktiviteetteja. Vanhemmat voivat kuitenkin odottaa harjoitusten ajan aulakahviossa tai talkootyönä valvoa\, että harjoituksissa käyttäydytään asiallisesti. \n  \nSääntöjä: \n\nKuunnellaan valmentajien tai muun henkilökunnan ohjeita.\n\n\nEi skeittausta aulassa\, skeitataan ainoastaan sille tarkoitetussa paikassa.\n\n\nSkeitti- ja scoottiparkissa käytetään aina kypärää (alaikäset).\n\n\nYksi kerrallaan trampoliineilla!\n\n\nPuistossa liikutaan sukilla tai sisäkengillä.\n\n\nFoam-altaassa ei tule oleskella\, vaan sieltä noustaan hypyn jälkeen ripeästi pois\n\n\nJonotathan aina omaa vuoroa ja annat rauhan muille liikkujille suorituksen aikana.\n\n\nKaikki osallistuu ohjattuun toimintaan.\n\n\nKorjataan välineet oikeille paikoille harjoituksen jälkeen.\n\n\nOtetaan nuorimmat harrastajat huomioon.\n\n\nKäyttäydytään asiallisesti ja kunnioitetaan muita harrastajia.\n\nToistuvasta sääntöjen rikkomisesta seuraa kielto osallistua määräajaksi Superpark -harjoituksiin. \nhttps://superpark.fi/park/vantaa/
URL:https://helsinginlumilautailijat.fi/tapahtuma/superpark-vantaa-harjoitukset-19/
LOCATION:Superpark Vantaa\, Tammiston kauppatie 13\, Vantaa\, 01510
ATTACH;FMTTYPE=image/jpeg:https://helsinginlumilautailijat.fi/wp-content/uploads/PII0787-1.jpg
END:VEVENT
BEGIN:VEVENT
DTSTART;TZID=Europe/Helsinki:20250317T180000
DTEND;TZID=Europe/Helsinki:20250317T193000
DTSTAMP:20260420T042107
CREATED:20241003T073503Z
LAST-MODIFIED:20241003T073503Z
UID:6671-1742234400-1742239800@helsinginlumilautailijat.fi
SUMMARY:Seniors -ryhmät Sveitsi
DESCRIPTION:Sveitsin harjoitukset Seniors -ryhmille klo 18.00-19.30. Suositellaan kypärän käyttöä ja muita mahdollisia suojia. Kokoontuminen rinnekahvilan edessä.
URL:https://helsinginlumilautailijat.fi/tapahtuma/seniors-ryhmat-sveitsi-26/
LOCATION:Sveitsi\, Pujottelutie 1\, Hyvinkää\, 05880\, Suomi
END:VEVENT
BEGIN:VEVENT
DTSTART;TZID=Europe/Helsinki:20250318T180000
DTEND;TZID=Europe/Helsinki:20250318T193000
DTSTAMP:20260420T042107
CREATED:20241003T080338Z
LAST-MODIFIED:20241003T080338Z
UID:6701-1742320800-1742326200@helsinginlumilautailijat.fi
SUMMARY:Crew 1 & Warriors -ryhmät Sveitsi /// Crew 1 & 2 -ryhmät Talma
DESCRIPTION:Sveitsin harjoitukset Crew 1 ja Warriors -ryhmille klo 18.00-19.30. Kypäräpakko! Kokoontuminen rinnekahvilan edessä. Juomapullo kannattaa myös ottaa mukaan! \nTalman harjoitukset Crew 1 ja Crew 2 -ryhmille klo 18.00-19.30. Kypäräpakko! Kokoontuminen rinteiden alhaalla. Juomapullo kannattaa myös ottaa mukaan!
URL:https://helsinginlumilautailijat.fi/tapahtuma/crew-1-warriors-ryhmat-sveitsi-crew-1-2-ryhmat-talma-28/
END:VEVENT
BEGIN:VEVENT
DTSTART;TZID=Europe/Helsinki:20250319T180000
DTEND;TZID=Europe/Helsinki:20250319T193000
DTSTAMP:20260420T042107
CREATED:20241003T072414Z
LAST-MODIFIED:20241003T072414Z
UID:6643-1742407200-1742412600@helsinginlumilautailijat.fi
SUMMARY:Seniors -ryhmät Talma
DESCRIPTION:Talman harjoitukset Seniors -ryhmille klo 18.00-19.30. Suositellaan kypärän käyttöä ja muita mahdollisia suojia. Kokoontuminen rinteiden alhaalla.
URL:https://helsinginlumilautailijat.fi/tapahtuma/seniors-ryhmat-talma-27/
LOCATION:Talma Ski\, Talmantie 341\, Sipoo\, 04240\, Suomi
END:VEVENT
BEGIN:VEVENT
DTSTART;TZID=Europe/Helsinki:20250320T180000
DTEND;TZID=Europe/Helsinki:20250320T193000
DTSTAMP:20260420T042107
CREATED:20241003T081812Z
LAST-MODIFIED:20241003T081812Z
UID:6733-1742493600-1742499000@helsinginlumilautailijat.fi
SUMMARY:Crew 2\, Warriors & Youth -ryhmät Talma /// Crew 1 & Warriors -ryhmät Serena
DESCRIPTION:Talman harjoitukset Warriors\, Crew 2 ja Youth -ryhmille klo 18.00-19.30. Kypäräpakko! Kokoontuminen rinteiden alhaalla. Juomapullo kannattaa myös ottaa mukaan! \nSerenan harjoitukset Crew 1 ja Warriors -ryhmille klo 18.00-19.30. Kypäräpakko! Kokoontuminen rinteiden alhaalla. Juomapullo kannattaa myös ottaa mukaan!
URL:https://helsinginlumilautailijat.fi/tapahtuma/crew-2-warriors-youth-ryhmat-talma-crew-1-warriors-ryhmat-serena-13/
END:VEVENT
BEGIN:VEVENT
DTSTART;TZID=Europe/Helsinki:20250323T100000
DTEND;TZID=Europe/Helsinki:20250323T113000
DTSTAMP:20260420T042107
CREATED:20250320T111229Z
LAST-MODIFIED:20250320T111229Z
UID:7333-1742724000-1742729400@helsinginlumilautailijat.fi
SUMMARY:Sunnuntai Sessarit Sveitsi
DESCRIPTION:Yhteiset sunnuntai sessarit Sveitsissä klo 10.00-11.30 Crew 1 ja Warriors -ryhmille. Muistakaa kypärä ja juomapullo!
URL:https://helsinginlumilautailijat.fi/tapahtuma/sunnuntai-sessarit-sveitsi-18/
LOCATION:Sveitsi\, Pujottelutie 1\, Hyvinkää\, 05880\, Suomi
END:VEVENT
BEGIN:VEVENT
DTSTART;TZID=Europe/Helsinki:20250323T100000
DTEND;TZID=Europe/Helsinki:20250323T113000
DTSTAMP:20260420T042107
CREATED:20250320T111332Z
LAST-MODIFIED:20250320T111340Z
UID:7335-1742724000-1742729400@helsinginlumilautailijat.fi
SUMMARY:Sunnuntai Sessarit Talma
DESCRIPTION:Yhteiset sunnuntai sessarit Talmassa klo 10.00-11.30. Crew 1\, Crew 2\, Warriors-ryhmille. Muistakaa kypärä ja juomapullo!
URL:https://helsinginlumilautailijat.fi/tapahtuma/sunnuntai-sessarit-talma-23/
LOCATION:Talma Ski\, Talmantie 341\, Sipoo\, 04240\, Suomi
END:VEVENT
BEGIN:VEVENT
DTSTART;TZID=Europe/Helsinki:20250324T180000
DTEND;TZID=Europe/Helsinki:20250324T193000
DTSTAMP:20260420T042107
CREATED:20241003T073531Z
LAST-MODIFIED:20241003T073531Z
UID:6673-1742839200-1742844600@helsinginlumilautailijat.fi
SUMMARY:Seniors -ryhmät Sveitsi
DESCRIPTION:Sveitsin harjoitukset Seniors -ryhmille klo 18.00-19.30. Suositellaan kypärän käyttöä ja muita mahdollisia suojia. Kokoontuminen rinnekahvilan edessä.
URL:https://helsinginlumilautailijat.fi/tapahtuma/seniors-ryhmat-sveitsi-27/
LOCATION:Sveitsi\, Pujottelutie 1\, Hyvinkää\, 05880\, Suomi
END:VEVENT
BEGIN:VEVENT
DTSTART;TZID=Europe/Helsinki:20250325T180000
DTEND;TZID=Europe/Helsinki:20250325T193000
DTSTAMP:20260420T042107
CREATED:20241003T080415Z
LAST-MODIFIED:20241003T080415Z
UID:6703-1742925600-1742931000@helsinginlumilautailijat.fi
SUMMARY:Crew 1 & Warriors -ryhmät Sveitsi /// Crew 1 & 2 -ryhmät Talma
DESCRIPTION:Sveitsin harjoitukset Crew 1 ja Warriors -ryhmille klo 18.00-19.30. Kypäräpakko! Kokoontuminen rinnekahvilan edessä. Juomapullo kannattaa myös ottaa mukaan! \nTalman harjoitukset Crew 1 ja Crew 2 -ryhmille klo 18.00-19.30. Kypäräpakko! Kokoontuminen rinteiden alhaalla. Juomapullo kannattaa myös ottaa mukaan! \n 
URL:https://helsinginlumilautailijat.fi/tapahtuma/crew-1-warriors-ryhmat-sveitsi-crew-1-2-ryhmat-talma-29/
END:VEVENT
BEGIN:VEVENT
DTSTART;TZID=Europe/Helsinki:20250326T180000
DTEND;TZID=Europe/Helsinki:20250326T193000
DTSTAMP:20260420T042107
CREATED:20241003T072457Z
LAST-MODIFIED:20241003T072457Z
UID:6645-1743012000-1743017400@helsinginlumilautailijat.fi
SUMMARY:Seniors -ryhmät Talma
DESCRIPTION:Talman harjoitukset Seniors -ryhmille klo 18.00-19.30. Suositellaan kypärän käyttöä ja muita mahdollisia suojia. Kokoontuminen rinteiden alhaalla.
URL:https://helsinginlumilautailijat.fi/tapahtuma/seniors-ryhmat-talma-28/
LOCATION:Talma Ski\, Talmantie 341\, Sipoo\, 04240\, Suomi
END:VEVENT
BEGIN:VEVENT
DTSTART;TZID=Europe/Helsinki:20250327T180000
DTEND;TZID=Europe/Helsinki:20250327T193000
DTSTAMP:20260420T042107
CREATED:20241003T081841Z
LAST-MODIFIED:20241003T081841Z
UID:6735-1743098400-1743103800@helsinginlumilautailijat.fi
SUMMARY:Crew 2\, Warriors & Youth -ryhmät Talma /// Crew 1 & Warriors -ryhmät Serena
DESCRIPTION:Talman harjoitukset Warriors\, Crew 2 ja Youth -ryhmille klo 18.00-19.30. Kypäräpakko! Kokoontuminen rinteiden alhaalla. Juomapullo kannattaa myös ottaa mukaan! \nSerenan harjoitukset Crew 1 ja Warriors -ryhmille klo 18.00-19.30. Kypäräpakko! Kokoontuminen rinteiden alhaalla. Juomapullo kannattaa myös ottaa mukaan!
URL:https://helsinginlumilautailijat.fi/tapahtuma/crew-2-warriors-youth-ryhmat-talma-crew-1-warriors-ryhmat-serena-14/
END:VEVENT
BEGIN:VEVENT
DTSTART;TZID=Europe/Helsinki:20250330T100000
DTEND;TZID=Europe/Helsinki:20250330T113000
DTSTAMP:20260420T042107
CREATED:20241003T083220Z
LAST-MODIFIED:20241003T083220Z
UID:6755-1743328800-1743334200@helsinginlumilautailijat.fi
SUMMARY:Sunnuntai Sessarit Serena\, Sveitsi ja Talma
DESCRIPTION:Yhteiset sunnuntai sessarit Serenassa klo 11.00-12.30 Crew 1 ja Warriors -ryhmille. Muistakaa kypärä ja juomapullo! \nYhteiset sunnuntai sessarit Sveitsissä klo 10.00-11.30 Crew 1 ja Warriors -ryhmille. Muistakaa kypärä ja juomapullo! \nYhteiset sunnuntai sessarit Talmassa klo 10.00-11.30. Crew 1\, Crew 2\, Warriors-ryhmille. Muistakaa kypärä ja juomapullo!
URL:https://helsinginlumilautailijat.fi/tapahtuma/sunnuntai-sessarit-serena-sveitsi-ja-talma-8/
END:VEVENT
BEGIN:VEVENT
DTSTART;TZID=Europe/Helsinki:20250331T180000
DTEND;TZID=Europe/Helsinki:20250331T193000
DTSTAMP:20260420T042107
CREATED:20241003T073612Z
LAST-MODIFIED:20241003T073612Z
UID:6675-1743444000-1743449400@helsinginlumilautailijat.fi
SUMMARY:Seniors -ryhmät Sveitsi
DESCRIPTION:Sveitsin harjoitukset Seniors -ryhmille klo 18.00-19.30. Suositellaan kypärän käyttöä ja muita mahdollisia suojia. Kokoontuminen rinnekahvilan edessä.
URL:https://helsinginlumilautailijat.fi/tapahtuma/seniors-ryhmat-sveitsi-28/
LOCATION:Sveitsi\, Pujottelutie 1\, Hyvinkää\, 05880\, Suomi
END:VEVENT
BEGIN:VEVENT
DTSTART;TZID=Europe/Helsinki:20250401T180000
DTEND;TZID=Europe/Helsinki:20250401T193000
DTSTAMP:20260420T042107
CREATED:20241003T080448Z
LAST-MODIFIED:20241003T080448Z
UID:6705-1743530400-1743535800@helsinginlumilautailijat.fi
SUMMARY:Crew 1 & Warriors -ryhmät Sveitsi /// Crew 1 & 2 -ryhmät Talma
DESCRIPTION:Sveitsin harjoitukset Crew 1 ja Warriors -ryhmille klo 18.00-19.30. Kypäräpakko! Kokoontuminen rinnekahvilan edessä. Juomapullo kannattaa myös ottaa mukaan! \nTalman harjoitukset Crew 1 ja Crew 2 -ryhmille klo 18.00-19.30. Kypäräpakko! Kokoontuminen rinteiden alhaalla. Juomapullo kannattaa myös ottaa mukaan! \n 
URL:https://helsinginlumilautailijat.fi/tapahtuma/crew-1-warriors-ryhmat-sveitsi-crew-1-2-ryhmat-talma-30/
END:VEVENT
BEGIN:VEVENT
DTSTART;TZID=Europe/Helsinki:20250402T180000
DTEND;TZID=Europe/Helsinki:20250402T193000
DTSTAMP:20260420T042107
CREATED:20241003T072545Z
LAST-MODIFIED:20241003T072545Z
UID:6647-1743616800-1743622200@helsinginlumilautailijat.fi
SUMMARY:Seniors -ryhmät Talma
DESCRIPTION:Talman harjoitukset Seniors -ryhmille klo 18.00-19.30. Suositellaan kypärän käyttöä ja muita mahdollisia suojia. Kokoontuminen rinteiden alhaalla.
URL:https://helsinginlumilautailijat.fi/tapahtuma/seniors-ryhmat-talma-29/
LOCATION:Talma Ski\, Talmantie 341\, Sipoo\, 04240\, Suomi
END:VEVENT
BEGIN:VEVENT
DTSTART;TZID=Europe/Helsinki:20250403T180000
DTEND;TZID=Europe/Helsinki:20250403T193000
DTSTAMP:20260420T042107
CREATED:20241003T081916Z
LAST-MODIFIED:20241003T081916Z
UID:6737-1743703200-1743708600@helsinginlumilautailijat.fi
SUMMARY:Crew 2\, Warriors & Youth -ryhmät Talma /// Crew 1 & Warriors -ryhmät Serena
DESCRIPTION:Talman harjoitukset Warriors\, Crew 2 ja Youth -ryhmille klo 18.00-19.30. Kypäräpakko! Kokoontuminen rinteiden alhaalla. Juomapullo kannattaa myös ottaa mukaan! \nSerenan harjoitukset Crew 1 ja Warriors -ryhmille klo 18.00-19.30. Kypäräpakko! Kokoontuminen rinteiden alhaalla. Juomapullo kannattaa myös ottaa mukaan!
URL:https://helsinginlumilautailijat.fi/tapahtuma/crew-2-warriors-youth-ryhmat-talma-crew-1-warriors-ryhmat-serena-15/
END:VEVENT
BEGIN:VEVENT
DTSTART;TZID=Europe/Helsinki:20250406T100000
DTEND;TZID=Europe/Helsinki:20250406T113000
DTSTAMP:20260420T042107
CREATED:20241003T083255Z
LAST-MODIFIED:20241003T083255Z
UID:6757-1743933600-1743939000@helsinginlumilautailijat.fi
SUMMARY:Sunnuntai Sessarit Serena\, Sveitsi ja Talma
DESCRIPTION:Yhteiset sunnuntai sessarit Serenassa klo 11.00-12.30 Crew 1 ja Warriors -ryhmille. Muistakaa kypärä ja juomapullo! \nYhteiset sunnuntai sessarit Sveitsissä klo 10.00-11.30 Crew 1 ja Warriors -ryhmille. Muistakaa kypärä ja juomapullo! \nYhteiset sunnuntai sessarit Talmassa klo 10.00-11.30. Crew 1\, Crew 2\, Warriors-ryhmille. Muistakaa kypärä ja juomapullo!
URL:https://helsinginlumilautailijat.fi/tapahtuma/sunnuntai-sessarit-serena-sveitsi-ja-talma-9/
END:VEVENT
BEGIN:VEVENT
DTSTART;TZID=Europe/Helsinki:20250408T180000
DTEND;TZID=Europe/Helsinki:20250408T193000
DTSTAMP:20260420T042107
CREATED:20241003T080529Z
LAST-MODIFIED:20241003T080529Z
UID:6707-1744135200-1744140600@helsinginlumilautailijat.fi
SUMMARY:Crew 1 & Warriors -ryhmät Sveitsi /// Crew 1 & 2 -ryhmät Talma
DESCRIPTION:Sveitsin harjoitukset Crew 1 ja Warriors -ryhmille klo 18.00-19.30. Kypäräpakko! Kokoontuminen rinnekahvilan edessä. Juomapullo kannattaa myös ottaa mukaan! \nTalman harjoitukset Crew 1 ja Crew 2 -ryhmille klo 18.00-19.30. Kypäräpakko! Kokoontuminen rinteiden alhaalla. Juomapullo kannattaa myös ottaa mukaan!
URL:https://helsinginlumilautailijat.fi/tapahtuma/crew-1-warriors-ryhmat-sveitsi-crew-1-2-ryhmat-talma-31/
END:VEVENT
BEGIN:VEVENT
DTSTART;TZID=Europe/Helsinki:20250410T180000
DTEND;TZID=Europe/Helsinki:20250410T193000
DTSTAMP:20260420T042107
CREATED:20241003T082000Z
LAST-MODIFIED:20241003T082000Z
UID:6739-1744308000-1744313400@helsinginlumilautailijat.fi
SUMMARY:Crew 2\, Warriors & Youth -ryhmät Talma /// Crew 1 & Warriors -ryhmät Serena
DESCRIPTION:Talman harjoitukset Warriors\, Crew 2 ja Youth -ryhmille klo 18.00-19.30. Kypäräpakko! Kokoontuminen rinteiden alhaalla. Juomapullo kannattaa myös ottaa mukaan! \nSerenan harjoitukset Crew 1 ja Warriors -ryhmille klo 18.00-19.30. Kypäräpakko! Kokoontuminen rinteiden alhaalla. Juomapullo kannattaa myös ottaa mukaan!
URL:https://helsinginlumilautailijat.fi/tapahtuma/crew-2-warriors-youth-ryhmat-talma-crew-1-warriors-ryhmat-serena-16/
END:VEVENT
BEGIN:VEVENT
DTSTART;TZID=Europe/Helsinki:20250413T100000
DTEND;TZID=Europe/Helsinki:20250413T113000
DTSTAMP:20260420T042107
CREATED:20241003T083353Z
LAST-MODIFIED:20241003T083353Z
UID:6759-1744538400-1744543800@helsinginlumilautailijat.fi
SUMMARY:Sunnuntai Sessarit Serena\, Sveitsi ja Talma
DESCRIPTION:Yhteiset sunnuntai sessarit Serenassa klo 11.00-12.30 Crew 1 ja Warriors -ryhmille. Muistakaa kypärä ja juomapullo! \nYhteiset sunnuntai sessarit Sveitsissä klo 10.00-11.30 Crew 1 ja Warriors -ryhmille. Muistakaa kypärä ja juomapullo! \nYhteiset sunnuntai sessarit Talmassa klo 10.00-11.30. Crew 1\, Crew 2\, Warriors-ryhmille. Muistakaa kypärä ja juomapullo!
URL:https://helsinginlumilautailijat.fi/tapahtuma/sunnuntai-sessarit-serena-sveitsi-ja-talma-10/
END:VEVENT
BEGIN:VEVENT
DTSTART;TZID=Europe/Helsinki:20250603T180000
DTEND;TZID=Europe/Helsinki:20250603T191500
DTSTAMP:20260420T042107
CREATED:20250530T054032Z
LAST-MODIFIED:20250530T055814Z
UID:7464-1748973600-1748978100@helsinginlumilautailijat.fi
SUMMARY:Kesätreenit @Herttoniemen Urheilupuisto
DESCRIPTION:Herttoniemen Urheilupuisto \nHerttoniemen urheilupuistossa ovat viikoittaiset fysiikkapainotteiset harjoitukset\, joissa myös pelaillaan erilaisia pallopelejä. Lisäksi teemme syyskaudella yhteislenkkejä herttoniemen urheilupuiston pururadoilla sekä porrastreenejä Myllypuron kuntoportailla. \nKesätreeniryhmä tullaan jakamaan kahteen osaan iän mukaan: \n\n2013-syntyneet ja nuoremmat\n2012-syntyneet ja vanhemmat\n\nTreenivarustus: Asianmukainen treenivaatetus\, juomapullo \nKokoontuminen Herttoniemen kentän laidalla.
URL:https://helsinginlumilautailijat.fi/tapahtuma/kesatreenit-herttoniemen-urheilupuisto-13/
LOCATION:Herttoniemen Urheilupuisto\, Siilitie 12\, Helsinki\, 00800\, Suomi
ATTACH;FMTTYPE=image/jpeg:https://helsinginlumilautailijat.fi/wp-content/uploads/PII7236-4.jpg
END:VEVENT
BEGIN:VEVENT
DTSTART;TZID=Europe/Helsinki:20250605T180000
DTEND;TZID=Europe/Helsinki:20250605T193000
DTSTAMP:20260420T042107
CREATED:20250530T061028Z
LAST-MODIFIED:20250530T061028Z
UID:7487-1749146400-1749151800@helsinginlumilautailijat.fi
SUMMARY:Kesätreenit @Skedesessarit Savela
DESCRIPTION:Skedesessarit Savelassa. \nSkeittaus on tärkeä lajinomainen harjoitus lumilautailulle. Käymme skeittaamassa pääkaupunkiseudun eri skeittipuistoissa kesä ja -syyskauden aikana. \nTreenivarustus: Skeittilauta\, juomapullo
URL:https://helsinginlumilautailijat.fi/tapahtuma/kesatreenit-skedesessarit-savela/
LOCATION:Savelan skeittipuisto\, Jengipolku 8\, Helsinki\, 00710
ATTACH;FMTTYPE=image/jpeg:https://helsinginlumilautailijat.fi/wp-content/uploads/PII7972-3.jpg
END:VEVENT
END:VCALENDAR